BEGIN:VCALENDAR
VERSION:2.0
PRODID:-//Keep Colchester Cool - ECPv6.15.20//NONSGML v1.0//EN
CALSCALE:GREGORIAN
METHOD:PUBLISH
X-WR-CALNAME:Keep Colchester Cool
X-ORIGINAL-URL:https://keepcolchestercool.co.uk
X-WR-CALDESC:Events for Keep Colchester Cool
REFRESH-INTERVAL;VALUE=DURATION:PT1H
X-Robots-Tag:noindex
X-PUBLISHED-TTL:PT1H
BEGIN:VTIMEZONE
TZID:Europe/London
BEGIN:DAYLIGHT
TZOFFSETFROM:+0000
TZOFFSETTO:+0100
TZNAME:BST
DTSTART:20240331T010000
END:DAYLIGHT
BEGIN:STANDARD
TZOFFSETFROM:+0100
TZOFFSETTO:+0000
TZNAME:GMT
DTSTART:20241027T010000
END:STANDARD
BEGIN:DAYLIGHT
TZOFFSETFROM:+0000
TZOFFSETTO:+0100
TZNAME:BST
DTSTART:20250330T010000
END:DAYLIGHT
BEGIN:STANDARD
TZOFFSETFROM:+0100
TZOFFSETTO:+0000
TZNAME:GMT
DTSTART:20251026T010000
END:STANDARD
BEGIN:DAYLIGHT
TZOFFSETFROM:+0000
TZOFFSETTO:+0100
TZNAME:BST
DTSTART:20260329T010000
END:DAYLIGHT
BEGIN:STANDARD
TZOFFSETFROM:+0100
TZOFFSETTO:+0000
TZNAME:GMT
DTSTART:20261025T010000
END:STANDARD
END:VTIMEZONE
BEGIN:VEVENT
DTSTART;TZID=Europe/London:20250808T210000
DTEND;TZID=Europe/London:20250809T000000
DTSTAMP:20260424T230909
CREATED:20250521T071153Z
LAST-MODIFIED:20250808T071015Z
UID:124396-1754686800-1754697600@keepcolchestercool.co.uk
SUMMARY:88mph Live at Coda – Colchester
DESCRIPTION:88MPH Live at Coda – Colchester \nGet ready for a night of non-stop 80s hits as 88MPH bring the ultimate retro party back to Coda! \nFrom synth-pop to power ballads\, we’re diving headfirst into the decade of big hair\, big tunes\, and bigger moves. \nPlus DJ Press Play taking your 80s requests and spinning classics until 2AM. \nFriday 8th August | 9PM | Free EntryDress up\, turn up\, and get ready to dance like it’s 1985.
URL:https://keepcolchestercool.co.uk/event/88mph-live-at-coda-colchester/
LOCATION:Coda Colchester\, Coda Colchester
END:VEVENT
END:VCALENDAR