BEGIN:VCALENDAR
VERSION:2.0
PRODID:-//Keep Colchester Cool - ECPv6.15.20//NONSGML v1.0//EN
CALSCALE:GREGORIAN
METHOD:PUBLISH
X-WR-CALNAME:Keep Colchester Cool
X-ORIGINAL-URL:https://keepcolchestercool.co.uk
X-WR-CALDESC:Events for Keep Colchester Cool
REFRESH-INTERVAL;VALUE=DURATION:PT1H
X-Robots-Tag:noindex
X-PUBLISHED-TTL:PT1H
BEGIN:VTIMEZONE
TZID:Europe/London
BEGIN:DAYLIGHT
TZOFFSETFROM:+0000
TZOFFSETTO:+0100
TZNAME:BST
DTSTART:20240331T010000
END:DAYLIGHT
BEGIN:STANDARD
TZOFFSETFROM:+0100
TZOFFSETTO:+0000
TZNAME:GMT
DTSTART:20241027T010000
END:STANDARD
BEGIN:DAYLIGHT
TZOFFSETFROM:+0000
TZOFFSETTO:+0100
TZNAME:BST
DTSTART:20250330T010000
END:DAYLIGHT
BEGIN:STANDARD
TZOFFSETFROM:+0100
TZOFFSETTO:+0000
TZNAME:GMT
DTSTART:20251026T010000
END:STANDARD
BEGIN:DAYLIGHT
TZOFFSETFROM:+0000
TZOFFSETTO:+0100
TZNAME:BST
DTSTART:20260329T010000
END:DAYLIGHT
BEGIN:STANDARD
TZOFFSETFROM:+0100
TZOFFSETTO:+0000
TZNAME:GMT
DTSTART:20261025T010000
END:STANDARD
END:VTIMEZONE
BEGIN:VEVENT
DTSTART;TZID=Europe/London:20250808T203000
DTEND;TZID=Europe/London:20250809T005500
DTSTAMP:20260424T210439
CREATED:20250523T071035Z
LAST-MODIFIED:20250808T071015Z
UID:124555-1754685000-1754700900@keepcolchestercool.co.uk
SUMMARY:90’s Party Night
DESCRIPTION:� Summer Social � Join us at The Jobserve Community Stadium (Col U) for a 90’s Night!  \n� Friday 8th August� 19.30-midnight � £12 per person (over 18’s only)  \nThese events usually sell out very quickly\, so I will be booking tickets next week. If you would like to join us I will need full payment upfront\, either bring to class or message for bank details � �
URL:https://keepcolchestercool.co.uk/event/90s-party-night-4/
LOCATION:JobServe Community Stadium
END:VEVENT
END:VCALENDAR