BEGIN:VCALENDAR
VERSION:2.0
PRODID:-//Keep Colchester Cool - ECPv6.15.20//NONSGML v1.0//EN
CALSCALE:GREGORIAN
METHOD:PUBLISH
X-WR-CALNAME:Keep Colchester Cool
X-ORIGINAL-URL:https://keepcolchestercool.co.uk
X-WR-CALDESC:Events for Keep Colchester Cool
REFRESH-INTERVAL;VALUE=DURATION:PT1H
X-Robots-Tag:noindex
X-PUBLISHED-TTL:PT1H
BEGIN:VTIMEZONE
TZID:Europe/London
BEGIN:DAYLIGHT
TZOFFSETFROM:+0000
TZOFFSETTO:+0100
TZNAME:BST
DTSTART:20240331T010000
END:DAYLIGHT
BEGIN:STANDARD
TZOFFSETFROM:+0100
TZOFFSETTO:+0000
TZNAME:GMT
DTSTART:20241027T010000
END:STANDARD
BEGIN:DAYLIGHT
TZOFFSETFROM:+0000
TZOFFSETTO:+0100
TZNAME:BST
DTSTART:20250330T010000
END:DAYLIGHT
BEGIN:STANDARD
TZOFFSETFROM:+0100
TZOFFSETTO:+0000
TZNAME:GMT
DTSTART:20251026T010000
END:STANDARD
BEGIN:DAYLIGHT
TZOFFSETFROM:+0000
TZOFFSETTO:+0100
TZNAME:BST
DTSTART:20260329T010000
END:DAYLIGHT
BEGIN:STANDARD
TZOFFSETFROM:+0100
TZOFFSETTO:+0000
TZNAME:GMT
DTSTART:20261025T010000
END:STANDARD
END:VTIMEZONE
BEGIN:VEVENT
DTSTART;TZID=Europe/London:20251112T193000
DTEND;TZID=Europe/London:20251115T221500
DTSTAMP:20260424T154725
CREATED:20251008T071040Z
LAST-MODIFIED:20251115T070956Z
UID:126384-1762975800-1763244900@keepcolchestercool.co.uk
SUMMARY:A Christmas Carol
DESCRIPTION:A Christmas Carol comes to the Headgate Theatre!Join us from 12–15th November at 7:30pm\, with a special 2:30pm Saturday matinee\, for Dickens’ timeless tale of ghosts\, redemption and festive cheer. ��Book your seats now and step into a world of Christmas past\, present and future… before it’s too late! �https://www.ticketsource.co.uk/headgatetheatre/e-bepvre
URL:https://keepcolchestercool.co.uk/event/a-christmas-carol/
LOCATION:Headgate Theatre\, Headgate Theatre
ORGANIZER;CN="Colchester Theatre Group":MAILTO:noreply@facebookmail.com
END:VEVENT
END:VCALENDAR