BEGIN:VCALENDAR
VERSION:2.0
PRODID:-//Keep Colchester Cool - ECPv6.15.20//NONSGML v1.0//EN
CALSCALE:GREGORIAN
METHOD:PUBLISH
X-WR-CALNAME:Keep Colchester Cool
X-ORIGINAL-URL:https://keepcolchestercool.co.uk
X-WR-CALDESC:Events for Keep Colchester Cool
REFRESH-INTERVAL;VALUE=DURATION:PT1H
X-Robots-Tag:noindex
X-PUBLISHED-TTL:PT1H
BEGIN:VTIMEZONE
TZID:Europe/London
BEGIN:DAYLIGHT
TZOFFSETFROM:+0000
TZOFFSETTO:+0100
TZNAME:BST
DTSTART:20240331T010000
END:DAYLIGHT
BEGIN:STANDARD
TZOFFSETFROM:+0100
TZOFFSETTO:+0000
TZNAME:GMT
DTSTART:20241027T010000
END:STANDARD
BEGIN:DAYLIGHT
TZOFFSETFROM:+0000
TZOFFSETTO:+0100
TZNAME:BST
DTSTART:20250330T010000
END:DAYLIGHT
BEGIN:STANDARD
TZOFFSETFROM:+0100
TZOFFSETTO:+0000
TZNAME:GMT
DTSTART:20251026T010000
END:STANDARD
BEGIN:DAYLIGHT
TZOFFSETFROM:+0000
TZOFFSETTO:+0100
TZNAME:BST
DTSTART:20260329T010000
END:DAYLIGHT
BEGIN:STANDARD
TZOFFSETFROM:+0100
TZOFFSETTO:+0000
TZNAME:GMT
DTSTART:20261025T010000
END:STANDARD
END:VTIMEZONE
BEGIN:VEVENT
DTSTART;TZID=Europe/London:20251122T193000
DTEND;TZID=Europe/London:20251122T220000
DTSTAMP:20260424T155922
CREATED:20251008T071049Z
LAST-MODIFIED:20251122T071014Z
UID:126407-1763839800-1763848800@keepcolchestercool.co.uk
SUMMARY:A Little English Concert
DESCRIPTION:Join us for an evocative evening of quintessentially English music\, featuring beloved works by Holst\, Vaughan Williams\, Walton\, and Elgar. From the pastoral charm of Fantasia on Greensleeves and the English Folk Song Suite to the stately elegance of Warlock’s Capriol Suite\, this programme celebrates the rich musical heritage of England. \nWhether it’s the lyrical beauty of folk melodies or the stirring energy of ceremonial marches\, this concert offers an uplifting and evocative journey through some of England’s finest orchestral writing. \nThis concert promises something for everyone – bold\, beautiful\, and unmistakably English. \nProgramme \nWarlock: Capriol Suite (orchestral version)Vaughan Williams: English Folk Song SuiteVauhan Williams: Fantasia on GreensleevesHolst: 2 Songs Without Words\, Marching Song\, Country SongHolst: Suite in E♭Walton: Crown ImperialElgar: Chanson de NuitElgar: Chanson de Matin \nTickets on sale until 12:00pm on Saturday\, 22 November 2025. Tickets available on the door from 7:00pm (subject to availability).
URL:https://keepcolchestercool.co.uk/event/a-little-english-concert/
LOCATION:St Botolphs Church\, Colchester\, GB
ORGANIZER;CN="St Botolph's Music Society":MAILTO:noreply@facebookmail.com
END:VEVENT
END:VCALENDAR