BEGIN:VCALENDAR
VERSION:2.0
PRODID:-//Keep Colchester Cool - ECPv6.15.20//NONSGML v1.0//EN
CALSCALE:GREGORIAN
METHOD:PUBLISH
X-WR-CALNAME:Keep Colchester Cool
X-ORIGINAL-URL:https://keepcolchestercool.co.uk
X-WR-CALDESC:Events for Keep Colchester Cool
REFRESH-INTERVAL;VALUE=DURATION:PT1H
X-Robots-Tag:noindex
X-PUBLISHED-TTL:PT1H
BEGIN:VTIMEZONE
TZID:Europe/London
BEGIN:DAYLIGHT
TZOFFSETFROM:+0000
TZOFFSETTO:+0100
TZNAME:BST
DTSTART:20240331T010000
END:DAYLIGHT
BEGIN:STANDARD
TZOFFSETFROM:+0100
TZOFFSETTO:+0000
TZNAME:GMT
DTSTART:20241027T010000
END:STANDARD
BEGIN:DAYLIGHT
TZOFFSETFROM:+0000
TZOFFSETTO:+0100
TZNAME:BST
DTSTART:20250330T010000
END:DAYLIGHT
BEGIN:STANDARD
TZOFFSETFROM:+0100
TZOFFSETTO:+0000
TZNAME:GMT
DTSTART:20251026T010000
END:STANDARD
BEGIN:DAYLIGHT
TZOFFSETFROM:+0000
TZOFFSETTO:+0100
TZNAME:BST
DTSTART:20260329T010000
END:DAYLIGHT
BEGIN:STANDARD
TZOFFSETFROM:+0100
TZOFFSETTO:+0000
TZNAME:GMT
DTSTART:20261025T010000
END:STANDARD
END:VTIMEZONE
BEGIN:VEVENT
DTSTART;TZID=Europe/London:20251123T110000
DTEND;TZID=Europe/London:20251123T120000
DTSTAMP:20260424T150512
CREATED:20251108T071031Z
LAST-MODIFIED:20251123T071016Z
UID:127198-1763895600-1763899200@keepcolchestercool.co.uk
SUMMARY:A morning with Robin Ince
DESCRIPTION:A morning of poetry with Robin Ince (TICKET ONLY or BOOK & TICKET options  \nEmail us@redlionbooks.co.uk for information or go to www.redlionbooks.co.uk/events \nSunday\, 23rd November 2025\, 11am at the wheelchair accessible venue Colchester Arts Centre. \nRaising awareness and funds for Colchester Samaritans \nTwo ticketing options£20 ticket includes signed copy of the poetry collection book\, ICE CREAM FOR A BROKEN TOOTH\,and can be booked here\,or£10 (entry ticket only).Tickets are virtual and don’t need to be collected.Once booked your name will be on the door \n(The book will be available on the day for £12) \nPoems about life\, death and the odd bits in between An instinctual poetry collection pursuing the psychological essence of personal and societal wellbeing\, explored through experiential neurodivergence and humanism. \nRobin Ince’s Ice Cream for a Broken Tooth is a morning of Robin performing poetry from his first poetry collection and much more – stories of apes\, astronauts and Judi Dench – Robin is best known for co-hosting the internationally successful The Infinite Monkey Cage with Brian Cox and his books including Bibliomaniac and Normally Weird and Weirdly Normal.
URL:https://keepcolchestercool.co.uk/event/a-morning-with-robin-ince/
LOCATION:Colchester Arts Centre\, Colchester Arts Centre
END:VEVENT
END:VCALENDAR