BEGIN:VCALENDAR
VERSION:2.0
PRODID:-//Keep Colchester Cool - ECPv6.15.20//NONSGML v1.0//EN
CALSCALE:GREGORIAN
METHOD:PUBLISH
X-WR-CALNAME:Keep Colchester Cool
X-ORIGINAL-URL:https://keepcolchestercool.co.uk
X-WR-CALDESC:Events for Keep Colchester Cool
REFRESH-INTERVAL;VALUE=DURATION:PT1H
X-Robots-Tag:noindex
X-PUBLISHED-TTL:PT1H
BEGIN:VTIMEZONE
TZID:Europe/London
BEGIN:DAYLIGHT
TZOFFSETFROM:+0000
TZOFFSETTO:+0100
TZNAME:BST
DTSTART:20240331T010000
END:DAYLIGHT
BEGIN:STANDARD
TZOFFSETFROM:+0100
TZOFFSETTO:+0000
TZNAME:GMT
DTSTART:20241027T010000
END:STANDARD
BEGIN:DAYLIGHT
TZOFFSETFROM:+0000
TZOFFSETTO:+0100
TZNAME:BST
DTSTART:20250330T010000
END:DAYLIGHT
BEGIN:STANDARD
TZOFFSETFROM:+0100
TZOFFSETTO:+0000
TZNAME:GMT
DTSTART:20251026T010000
END:STANDARD
BEGIN:DAYLIGHT
TZOFFSETFROM:+0000
TZOFFSETTO:+0100
TZNAME:BST
DTSTART:20260329T010000
END:DAYLIGHT
BEGIN:STANDARD
TZOFFSETFROM:+0100
TZOFFSETTO:+0000
TZNAME:GMT
DTSTART:20261025T010000
END:STANDARD
END:VTIMEZONE
BEGIN:VEVENT
DTSTART;TZID=Europe/London:20251101T210000
DTEND;TZID=Europe/London:20251102T040000
DTSTAMP:20260423T113524
CREATED:20251007T071238Z
LAST-MODIFIED:20251102T071004Z
UID:126237-1762030800-1762056000@keepcolchestercool.co.uk
SUMMARY:A Nightmare on Crouch Street! 🎃
DESCRIPTION:Join us if you dare for a Nightmare on Crouch Street this Halloween🧙  \nExperience 2 floors of spooky 👻 tunes in our fully spookily decorated venue!  \n🎃 Free Entry in Fancy Dress🎃 Halloween themed Cocktails🎃 Competitions & Giveaways🎃 2 DJs with the ultimate Monster Mash Vibes! 🎃 Halloween Party Classics🎃 Extended opening hours! 🎃 A spooky 👻 special guest performance to be announced!
URL:https://keepcolchestercool.co.uk/event/a-nightmare-on-crouch-street-%f0%9f%8e%83/
LOCATION:Rubix Bar\, Rubix Bar
ORGANIZER;CN="Rubix Bar":MAILTO:noreply@facebookmail_com
END:VEVENT
END:VCALENDAR