BEGIN:VCALENDAR
VERSION:2.0
PRODID:-//Keep Colchester Cool - ECPv6.15.20//NONSGML v1.0//EN
CALSCALE:GREGORIAN
METHOD:PUBLISH
X-WR-CALNAME:Keep Colchester Cool
X-ORIGINAL-URL:https://keepcolchestercool.co.uk
X-WR-CALDESC:Events for Keep Colchester Cool
REFRESH-INTERVAL;VALUE=DURATION:PT1H
X-Robots-Tag:noindex
X-PUBLISHED-TTL:PT1H
BEGIN:VTIMEZONE
TZID:Europe/London
BEGIN:DAYLIGHT
TZOFFSETFROM:+0000
TZOFFSETTO:+0100
TZNAME:BST
DTSTART:20250330T010000
END:DAYLIGHT
BEGIN:STANDARD
TZOFFSETFROM:+0100
TZOFFSETTO:+0000
TZNAME:GMT
DTSTART:20251026T010000
END:STANDARD
BEGIN:DAYLIGHT
TZOFFSETFROM:+0000
TZOFFSETTO:+0100
TZNAME:BST
DTSTART:20260329T010000
END:DAYLIGHT
BEGIN:STANDARD
TZOFFSETFROM:+0100
TZOFFSETTO:+0000
TZNAME:GMT
DTSTART:20261025T010000
END:STANDARD
BEGIN:DAYLIGHT
TZOFFSETFROM:+0000
TZOFFSETTO:+0100
TZNAME:BST
DTSTART:20270328T010000
END:DAYLIGHT
BEGIN:STANDARD
TZOFFSETFROM:+0100
TZOFFSETTO:+0000
TZNAME:GMT
DTSTART:20271031T010000
END:STANDARD
END:VTIMEZONE
BEGIN:VEVENT
DTSTART;TZID=Europe/London:20261023T193000
DTEND;TZID=Europe/London:20261023T220000
DTSTAMP:20260424T171007
CREATED:20260224T071251Z
LAST-MODIFIED:20260226T071238Z
UID:129277-1792783800-1792792800@keepcolchestercool.co.uk
SUMMARY:A Vision of Elvis Mercury Theatre Colchester
DESCRIPTION:A Vision of Elvis – The Ultimate Elvis Tribute ShowCelebrate the music of the King of Rock ’n’ Roll with the UK’s supreme Elvis tribute artist – Rob Kingsley – and his sensational cast in a breathtaking recreation of a live Elvis Presley concert.This high-energy\, visually stunning production takes you on an unforgettable journey through Elvis’s iconic career\, featuring timeless classics like:🎤 It’s Now or Never🎤 The Wonder of You🎤 Burning Love🎤 In the Ghetto🎤 Suspicious Minds🎤 American Trilogy…and many more fan favourites.From the moment the show begins\, Rob Kingsley’s connection with the audience is electric. His uncanny resemblance\, voice\, charisma\, and movements capture the very soul of Elvis\, delivering an emotionally charged and authentic musical experience like no other.Officially Endorsed by Elvis Presley Enterprises (EPE) for charitable contributions and by Ed Bonja – Elvis’s official photographer and road manager (1970–1977) – who said:“On stage Rob Kingsley looks extraordinarily like Elvis. He sings like Elvis\, but most importantly\, he seems to capture the very soul of Elvis – his charisma\, his gestures – hell\, he even walks like Elvis!”Milestones & Accolades:The first Elvis tribute artist to perform at the New Wembley Stadium – live to over 50\,000 fansHeadlining theatres\, festivals\, and arenas worldwideVoted No.1 Elvis Tribute Artist & Best Overall Male Artist – National Music Tribute AwardsGrand European Champion – Europe’s Largest Elvis CompetitionBest Vegas Elvis – Europe’s Largest Elvis CompetitionWhat the Critics Say:“The King is Back” – Rolling Stones Magazine“Like a one-to-one with Elvis” – President\, Official Elvis Presley Fan Club Finland“Elvis was in the building” – President\, Official Elvis Presley Fan Club India“Entertaining\, Enthralling and Electric” – TheLatest.co.uk“Simply Superb” – North West End“The best just got better” – Lorna Weekes\, Theatre Reviewer📍 Tour Dates & Tickets: www.elvistributeuk.com
URL:https://keepcolchestercool.co.uk/event/a-vision-of-elvis-mercury-theatre-colchester/
LOCATION:Mercury Theatre Colchester\, Mercury Theatre Colchester
ATTACH;FMTTYPE=image/jpeg:https://keepcolchestercool.co.uk/wp-content/uploads/129277_image_613139063_1445491487150309_5120992753073423197_n.jpg
END:VEVENT
END:VCALENDAR