BEGIN:VCALENDAR
VERSION:2.0
PRODID:-//Keep Colchester Cool - ECPv6.15.20//NONSGML v1.0//EN
CALSCALE:GREGORIAN
METHOD:PUBLISH
X-WR-CALNAME:Keep Colchester Cool
X-ORIGINAL-URL:https://keepcolchestercool.co.uk
X-WR-CALDESC:Events for Keep Colchester Cool
REFRESH-INTERVAL;VALUE=DURATION:PT1H
X-Robots-Tag:noindex
X-PUBLISHED-TTL:PT1H
BEGIN:VTIMEZONE
TZID:Europe/London
BEGIN:DAYLIGHT
TZOFFSETFROM:+0000
TZOFFSETTO:+0100
TZNAME:BST
DTSTART:20250330T010000
END:DAYLIGHT
BEGIN:STANDARD
TZOFFSETFROM:+0100
TZOFFSETTO:+0000
TZNAME:GMT
DTSTART:20251026T010000
END:STANDARD
BEGIN:DAYLIGHT
TZOFFSETFROM:+0000
TZOFFSETTO:+0100
TZNAME:BST
DTSTART:20260329T010000
END:DAYLIGHT
BEGIN:STANDARD
TZOFFSETFROM:+0100
TZOFFSETTO:+0000
TZNAME:GMT
DTSTART:20261025T010000
END:STANDARD
BEGIN:DAYLIGHT
TZOFFSETFROM:+0000
TZOFFSETTO:+0100
TZNAME:BST
DTSTART:20270328T010000
END:DAYLIGHT
BEGIN:STANDARD
TZOFFSETFROM:+0100
TZOFFSETTO:+0000
TZNAME:GMT
DTSTART:20271031T010000
END:STANDARD
END:VTIMEZONE
BEGIN:VEVENT
DTSTART;TZID=Europe/London:20260410T173000
DTEND;TZID=Europe/London:20260410T181500
DTSTAMP:20260424T011702
CREATED:20260210T071049Z
LAST-MODIFIED:20260226T071223Z
UID:128288-1775842200-1775844900@keepcolchestercool.co.uk
SUMMARY:After Hours Castle Guided Tour
DESCRIPTION:Step inside Colchester Castle after hours on 10 April 2026 for an evening of history brought to life. \nExplore hidden corners\, Roman foundations and the iconic Great Stairs as your expert guide leads you through centuries of conquest\, triumph and transformation. With exclusive access\, this is your chance to experience the Castle as few ever do. Tours run from 5:30 PM to 6:15 PM and from 6:45 PM to 7:30 PM.  \nThis event is suitable for ages 10+. Don’t miss this rare opportunity to uncover the secrets of one of the region’s most remarkable historic sites. \nOur tour will go through areas with uneven flooring\, low archways and uneven stairs with no lift access. For useful information\, such as how to find us and what facilities Colchester Castle has\, we recommend reading our Access information. \nTickets cost £15 per person. \nhttps://www.facebook.com/events/2093473578091760/?event_time_id=2093473588091759
URL:https://keepcolchestercool.co.uk/event/after-hours-castle-guided-tour/
LOCATION:Colchester Castle\, Colchester Castle
ATTACH;FMTTYPE=image/jpeg:https://keepcolchestercool.co.uk/wp-content/uploads/128288_image_631206702_1314302437385499_3557305229480995424_n.jpg
ORGANIZER;CN="Colchester Museums":MAILTO:noreply@facebookmail.com
END:VEVENT
END:VCALENDAR