BEGIN:VCALENDAR
VERSION:2.0
PRODID:-//Keep Colchester Cool - ECPv6.15.20//NONSGML v1.0//EN
CALSCALE:GREGORIAN
METHOD:PUBLISH
X-WR-CALNAME:Keep Colchester Cool
X-ORIGINAL-URL:https://keepcolchestercool.co.uk
X-WR-CALDESC:Events for Keep Colchester Cool
REFRESH-INTERVAL;VALUE=DURATION:PT1H
X-Robots-Tag:noindex
X-PUBLISHED-TTL:PT1H
BEGIN:VTIMEZONE
TZID:Europe/London
BEGIN:DAYLIGHT
TZOFFSETFROM:+0000
TZOFFSETTO:+0100
TZNAME:BST
DTSTART:20240331T010000
END:DAYLIGHT
BEGIN:STANDARD
TZOFFSETFROM:+0100
TZOFFSETTO:+0000
TZNAME:GMT
DTSTART:20241027T010000
END:STANDARD
BEGIN:DAYLIGHT
TZOFFSETFROM:+0000
TZOFFSETTO:+0100
TZNAME:BST
DTSTART:20250330T010000
END:DAYLIGHT
BEGIN:STANDARD
TZOFFSETFROM:+0100
TZOFFSETTO:+0000
TZNAME:GMT
DTSTART:20251026T010000
END:STANDARD
BEGIN:DAYLIGHT
TZOFFSETFROM:+0000
TZOFFSETTO:+0100
TZNAME:BST
DTSTART:20260329T010000
END:DAYLIGHT
BEGIN:STANDARD
TZOFFSETFROM:+0100
TZOFFSETTO:+0000
TZNAME:GMT
DTSTART:20261025T010000
END:STANDARD
END:VTIMEZONE
BEGIN:VEVENT
DTSTART;TZID=Europe/London:20251119T200000
DTEND;TZID=Europe/London:20251119T230000
DTSTAMP:20260424T160244
CREATED:20251025T071035Z
LAST-MODIFIED:20251119T071027Z
UID:126771-1763582400-1763593200@keepcolchestercool.co.uk
SUMMARY:Ali Matthews & Co: Mushroom Language - A Fungal Gothic
DESCRIPTION:Pay what you can affordDoors open 7:30 pm\, Show starts 8 pmThis show is for a seated audience \nMushroom Language: A Fungal Gothic \nThey eat nappiesThey eat toothbrushesThey eat bombsThey eat newspapers about how the world will end…a species running slowly in parallel preaching change silently digesting muck into matter and back again. \nMushroom Language: A Fungal Gothic is about the cycles that shape us – eruption\, reproduction and decay. It’s about role-playing the lichen love stories\, spore shoot-outs and truffle siren songs found in our forests. \nIn an eerie and funny homage to folk horror\, two human performers absorb and mimic ‘mushroom language’ through ritual and power dynamics. Who are these creatures\, and what are the mushrooms trying to tell them? Dreamlike conversations and movement sequences are underpinned by original music from composer Hannah Miller (of the Moulettes) and playful design by Rūta Irbīte. \nMushrooms offer us a lens into a more sustainable future\, but nature is hilarious and terrifying. \nClick here for visual access guide
URL:https://keepcolchestercool.co.uk/event/ali-matthews-co-mushroom-language-a-fungal-gothic/
LOCATION:Church St\, CO1 1NF Colchester\, United Kingdom
ORGANIZER;CN="Colchester Arts Centre":MAILTO:noreply@facebookmail_com
END:VEVENT
END:VCALENDAR