BEGIN:VCALENDAR
VERSION:2.0
PRODID:-//Keep Colchester Cool - ECPv6.15.20//NONSGML v1.0//EN
CALSCALE:GREGORIAN
METHOD:PUBLISH
X-WR-CALNAME:Keep Colchester Cool
X-ORIGINAL-URL:https://keepcolchestercool.co.uk
X-WR-CALDESC:Events for Keep Colchester Cool
REFRESH-INTERVAL;VALUE=DURATION:PT1H
X-Robots-Tag:noindex
X-PUBLISHED-TTL:PT1H
BEGIN:VTIMEZONE
TZID:Europe/London
BEGIN:DAYLIGHT
TZOFFSETFROM:+0000
TZOFFSETTO:+0100
TZNAME:BST
DTSTART:20240331T010000
END:DAYLIGHT
BEGIN:STANDARD
TZOFFSETFROM:+0100
TZOFFSETTO:+0000
TZNAME:GMT
DTSTART:20241027T010000
END:STANDARD
BEGIN:DAYLIGHT
TZOFFSETFROM:+0000
TZOFFSETTO:+0100
TZNAME:BST
DTSTART:20250330T010000
END:DAYLIGHT
BEGIN:STANDARD
TZOFFSETFROM:+0100
TZOFFSETTO:+0000
TZNAME:GMT
DTSTART:20251026T010000
END:STANDARD
BEGIN:DAYLIGHT
TZOFFSETFROM:+0000
TZOFFSETTO:+0100
TZNAME:BST
DTSTART:20260329T010000
END:DAYLIGHT
BEGIN:STANDARD
TZOFFSETFROM:+0100
TZOFFSETTO:+0000
TZNAME:GMT
DTSTART:20261025T010000
END:STANDARD
END:VTIMEZONE
BEGIN:VEVENT
DTSTART;TZID=Europe/London:20251101T173000
DTEND;TZID=Europe/London:20251101T203000
DTSTAMP:20260424T154659
CREATED:20251007T071234Z
LAST-MODIFIED:20251101T070959Z
UID:126231-1762018200-1762029000@keepcolchestercool.co.uk
SUMMARY:Alternative Fireworks Night
DESCRIPTION:An immersive indoor and outdoor light and sound experience\, designed to be explored at your own pace. \nWhat to expect: \nAn eco (and ear) -friendly alternative to traditional fireworks\, with no loud or unpredictable noises. \n– Ambient light and sound experience in the garden created by Light Artist Extraordinaire ‘The Octopus’ and DJ Dansette Dave. \n– Long-exposure photography drop-in sessions throughout the evening with the Light Monkey. \n– Interactive LED lights/ microbit programming drop-in workshop with Signals Media Arts Centre. \n– Drop-in workshops with light-themed music-making activities with Frazer Merrick and CLIP. \nDelicious locally-sourced hot food and drink will be available to purchase from The Commons cafe. If you or your children have specific dietary preferences you are welcome to bring your own food. \nSome parts of this event take place outside – please dress appropriately. \nThere will be a quiet space provided at this event for those who require it to use.
URL:https://keepcolchestercool.co.uk/event/alternative-fireworks-night/
LOCATION:74 High Street\, CO1 1UE Colchester\, United Kingdom\, 74 High Street\, CO1 1UE Colchester\, United Kingdom
ORGANIZER;CN="The Minories":MAILTO:noreply@facebookmail.com
END:VEVENT
END:VCALENDAR