BEGIN:VCALENDAR
VERSION:2.0
PRODID:-//Keep Colchester Cool - ECPv6.15.20//NONSGML v1.0//EN
CALSCALE:GREGORIAN
METHOD:PUBLISH
X-WR-CALNAME:Keep Colchester Cool
X-ORIGINAL-URL:https://keepcolchestercool.co.uk
X-WR-CALDESC:Events for Keep Colchester Cool
REFRESH-INTERVAL;VALUE=DURATION:PT1H
X-Robots-Tag:noindex
X-PUBLISHED-TTL:PT1H
BEGIN:VTIMEZONE
TZID:Europe/London
BEGIN:DAYLIGHT
TZOFFSETFROM:+0000
TZOFFSETTO:+0100
TZNAME:BST
DTSTART:20240331T010000
END:DAYLIGHT
BEGIN:STANDARD
TZOFFSETFROM:+0100
TZOFFSETTO:+0000
TZNAME:GMT
DTSTART:20241027T010000
END:STANDARD
BEGIN:DAYLIGHT
TZOFFSETFROM:+0000
TZOFFSETTO:+0100
TZNAME:BST
DTSTART:20250330T010000
END:DAYLIGHT
BEGIN:STANDARD
TZOFFSETFROM:+0100
TZOFFSETTO:+0000
TZNAME:GMT
DTSTART:20251026T010000
END:STANDARD
BEGIN:DAYLIGHT
TZOFFSETFROM:+0000
TZOFFSETTO:+0100
TZNAME:BST
DTSTART:20260329T010000
END:DAYLIGHT
BEGIN:STANDARD
TZOFFSETFROM:+0100
TZOFFSETTO:+0000
TZNAME:GMT
DTSTART:20261025T010000
END:STANDARD
END:VTIMEZONE
BEGIN:VEVENT
DTSTART;TZID=Europe/London:20251120T200000
DTEND;TZID=Europe/London:20251120T230000
DTSTAMP:20260424T150513
CREATED:20251025T071035Z
LAST-MODIFIED:20251120T070956Z
UID:126773-1763668800-1763679600@keepcolchestercool.co.uk
SUMMARY:Anna Mudeka: Mama Afrika
DESCRIPTION:Tickets £19.50 / £18.50 concessions.Doors open 7.30pm\, starts 8pm.This show is for a seated audience.Duration 120 minutes with interval. \nZimbabwean born singer\, musician and storyteller Anna Mudeka tells the remarkable life story of an iconic South African singer\, songwriter and civil rights activist\, Miriam Makeba\, charting her rise from the townships of Johannesburg to global star\, forced into exile for her stand against apartheid and marginalised for championing Black rights. \nTold in four character incarnations chronicling a life blighted by hardship\, tragedy and struggle; Mama Afrika the story of hope\, determination and song features many best loved songs including Mbube\, Pata Pata and Soweto Blues\, embodying an irrepressible spirit and integrity and which earned her legendary status. \nMama Afrika is a solo performance by Anna Mudeka. Script by Zimbabwean writer Tomas Lutuli Brickhill\, musical direction by John Vigar at Totena Music\, backing soundtrack recorded by Zimbabwean multi-instrumentalist Ziva Guveya. Directed by Tonia Daley-Campbell. \nProduced by Arts La’Olam. Originally co-commissioned by Norwich Arts Centre and Supported by The Arts Council England\, The Makeba Foundation & Norwich Theatre.
URL:https://keepcolchestercool.co.uk/event/anna-mudeka-mama-afrika/
LOCATION:Church St\, CO1 1NF Colchester\, United Kingdom
ORGANIZER;CN="Colchester Arts Centre":MAILTO:noreply@facebookmail_com
END:VEVENT
END:VCALENDAR