BEGIN:VCALENDAR
VERSION:2.0
PRODID:-//Keep Colchester Cool - ECPv6.15.20//NONSGML v1.0//EN
CALSCALE:GREGORIAN
METHOD:PUBLISH
X-WR-CALNAME:Keep Colchester Cool
X-ORIGINAL-URL:https://keepcolchestercool.co.uk
X-WR-CALDESC:Events for Keep Colchester Cool
REFRESH-INTERVAL;VALUE=DURATION:PT1H
X-Robots-Tag:noindex
X-PUBLISHED-TTL:PT1H
BEGIN:VTIMEZONE
TZID:Europe/London
BEGIN:DAYLIGHT
TZOFFSETFROM:+0000
TZOFFSETTO:+0100
TZNAME:BST
DTSTART:20250330T010000
END:DAYLIGHT
BEGIN:STANDARD
TZOFFSETFROM:+0100
TZOFFSETTO:+0000
TZNAME:GMT
DTSTART:20251026T010000
END:STANDARD
BEGIN:DAYLIGHT
TZOFFSETFROM:+0000
TZOFFSETTO:+0100
TZNAME:BST
DTSTART:20260329T010000
END:DAYLIGHT
BEGIN:STANDARD
TZOFFSETFROM:+0100
TZOFFSETTO:+0000
TZNAME:GMT
DTSTART:20261025T010000
END:STANDARD
BEGIN:DAYLIGHT
TZOFFSETFROM:+0000
TZOFFSETTO:+0100
TZNAME:BST
DTSTART:20270328T010000
END:DAYLIGHT
BEGIN:STANDARD
TZOFFSETFROM:+0100
TZOFFSETTO:+0000
TZNAME:GMT
DTSTART:20271031T010000
END:STANDARD
END:VTIMEZONE
BEGIN:VEVENT
DTSTART;TZID=Europe/London:20260411T100000
DTEND;TZID=Europe/London:20260411T130000
DTSTAMP:20260424T005844
CREATED:20260204T071030Z
LAST-MODIFIED:20260226T071224Z
UID:128228-1775901600-1775912400@keepcolchestercool.co.uk
SUMMARY:Arm knitting workshop
DESCRIPTION:Join us for a creative and inspiring Arm Knitting Workshop on Saturday 11th April\,10.30am – 1pm\, held at the workroom next to Colcheco. \nJoin us for a relaxed and friendly Arm Knitting Workshop where you’ll learn how to create a chunky knitted scarf or cowl using nothing but your arms. \nThis hands-on workshop is perfect for beginners – no knitting experience required. You’ll be guided step-by-step through the process\, learning how to cast on\, knit\, and cast off using soft\, chunky yarn to create a finished piece you’ll be proud to wear or gift. \nAll materials\, tools\, and guidance are provided\, along with hot beverages and sweet treats to enjoy while you craft. The atmosphere is calm\, welcoming\, and ideal for a mindful morning of creativity. \n£27.50pp including hot beverages & sweet treats \nBook your tickets here: https://www.thecreativeworkshopcompany.co.uk/event-details/arm-knitting-workshop
URL:https://keepcolchestercool.co.uk/event/arm-knitting-workshop/
LOCATION:Colcheco\, Colcheco
ATTACH;FMTTYPE=image/jpeg:https://keepcolchestercool.co.uk/wp-content/uploads/128228_image_621527282_902545598973309_7239854528001132263_n.jpg
ORGANIZER;CN="The Creative Workshop Company":MAILTO:noreply@facebookmail.com
END:VEVENT
END:VCALENDAR