BEGIN:VCALENDAR
VERSION:2.0
PRODID:-//Keep Colchester Cool - ECPv6.15.20//NONSGML v1.0//EN
CALSCALE:GREGORIAN
METHOD:PUBLISH
X-WR-CALNAME:Keep Colchester Cool
X-ORIGINAL-URL:https://keepcolchestercool.co.uk
X-WR-CALDESC:Events for Keep Colchester Cool
REFRESH-INTERVAL;VALUE=DURATION:PT1H
X-Robots-Tag:noindex
X-PUBLISHED-TTL:PT1H
BEGIN:VTIMEZONE
TZID:Europe/London
BEGIN:DAYLIGHT
TZOFFSETFROM:+0000
TZOFFSETTO:+0100
TZNAME:BST
DTSTART:20250330T010000
END:DAYLIGHT
BEGIN:STANDARD
TZOFFSETFROM:+0100
TZOFFSETTO:+0000
TZNAME:GMT
DTSTART:20251026T010000
END:STANDARD
BEGIN:DAYLIGHT
TZOFFSETFROM:+0000
TZOFFSETTO:+0100
TZNAME:BST
DTSTART:20260329T010000
END:DAYLIGHT
BEGIN:STANDARD
TZOFFSETFROM:+0100
TZOFFSETTO:+0000
TZNAME:GMT
DTSTART:20261025T010000
END:STANDARD
BEGIN:DAYLIGHT
TZOFFSETFROM:+0000
TZOFFSETTO:+0100
TZNAME:BST
DTSTART:20270328T010000
END:DAYLIGHT
BEGIN:STANDARD
TZOFFSETFROM:+0100
TZOFFSETTO:+0000
TZNAME:GMT
DTSTART:20271031T010000
END:STANDARD
END:VTIMEZONE
BEGIN:VEVENT
DTSTART;TZID=Europe/London:20260307T193000
DTEND;TZID=Europe/London:20260307T223000
DTSTAMP:20260424T044128
CREATED:20260105T071025Z
LAST-MODIFIED:20260226T071211Z
UID:127639-1772911800-1772922600@keepcolchestercool.co.uk
SUMMARY:Artificial Monkeys (Arctic Monkeys Tribute)
DESCRIPTION:oin us for a night of Arctic Monkeys Tribute! Get ready for an unforgettable evening as the Artificial Monkeys take the stage! This talented quartet of experienced musicians is dedicated to bringing you the authentic sound and electrifying performance of the Arctic Monkeys. Known for their energetic shows\, the Artificial Monkeys deliver a note-for-note reproduction of iconic hits like “Do I Wanna Know?”\, “I Bet You Look Good on the Dancefloor\,” “When the Sun Goes Down\,” and many more.Don’t miss your chance to experience the excitement of live music with a band that captures the essence of one of the UK’s most beloved rock groups!Doors Open: 7:30 PMLocation: Three Wise Monkeys Top FloorTickets: £10 + booking feeGrab your tickets now and get ready to dance the night away!Please note that access to the top floor of Three Wise Monkeys does not have a lift\, but there are rest opportunities between each flight of stairs.Viewer discretion is advised: This show may potentially contain flashing and strobing lighting effects.We wanted to inform you of our refund policy regarding event tickets. Please note that we will be unable to process any ticket refunds within 7 days of the event. We understand that circumstances may arise that prevent you from attending the event\, but unfortunately\, we are unable to accommodate refund requests within this timeframe.
URL:https://keepcolchestercool.co.uk/event/artificial-monkeys-arctic-monkeys-tribute/
LOCATION:60 High Street\, CO1 1DN Colchester\, United Kingdom\, 60 High Street\, CO1 1DN Colchester\, United Kingdom
ATTACH;FMTTYPE=image/jpeg:https://keepcolchestercool.co.uk/wp-content/uploads/127639_image_592352765_1264445779052102_4642265760931233362_n.jpg
ORGANIZER;CN="Three Wise Monkeys Colchester":MAILTO:noreply@facebookmail_com
END:VEVENT
END:VCALENDAR