BEGIN:VCALENDAR
VERSION:2.0
PRODID:-//Keep Colchester Cool - ECPv6.15.20//NONSGML v1.0//EN
CALSCALE:GREGORIAN
METHOD:PUBLISH
X-WR-CALNAME:Keep Colchester Cool
X-ORIGINAL-URL:https://keepcolchestercool.co.uk
X-WR-CALDESC:Events for Keep Colchester Cool
REFRESH-INTERVAL;VALUE=DURATION:PT1H
X-Robots-Tag:noindex
X-PUBLISHED-TTL:PT1H
BEGIN:VTIMEZONE
TZID:Europe/London
BEGIN:DAYLIGHT
TZOFFSETFROM:+0000
TZOFFSETTO:+0100
TZNAME:BST
DTSTART:20250330T010000
END:DAYLIGHT
BEGIN:STANDARD
TZOFFSETFROM:+0100
TZOFFSETTO:+0000
TZNAME:GMT
DTSTART:20251026T010000
END:STANDARD
BEGIN:DAYLIGHT
TZOFFSETFROM:+0000
TZOFFSETTO:+0100
TZNAME:BST
DTSTART:20260329T010000
END:DAYLIGHT
BEGIN:STANDARD
TZOFFSETFROM:+0100
TZOFFSETTO:+0000
TZNAME:GMT
DTSTART:20261025T010000
END:STANDARD
BEGIN:DAYLIGHT
TZOFFSETFROM:+0000
TZOFFSETTO:+0100
TZNAME:BST
DTSTART:20270328T010000
END:DAYLIGHT
BEGIN:STANDARD
TZOFFSETFROM:+0100
TZOFFSETTO:+0000
TZNAME:GMT
DTSTART:20271031T010000
END:STANDARD
END:VTIMEZONE
BEGIN:VEVENT
DTSTART;TZID=Europe/London:20260326T190000
DTEND;TZID=Europe/London:20260326T220000
DTSTAMP:20260424T043916
CREATED:20260225T071230Z
LAST-MODIFIED:20260226T071218Z
UID:129348-1774551600-1774562400@keepcolchestercool.co.uk
SUMMARY:Au Pairs *
DESCRIPTION:Tickets £26.50Doors open 7pm.This gig is for a standing audience. \nAGMP Concerts proudly presents AU PAIRS‘Playing With A Different Sex’ 45th Anniversary + very special guests:GINA BIRCH & THE UNREASONABLES \nFirst concert in over 40 years for legendary Post Punk group AU PAIRS. \nAu Pairs formed in late 1978 in Birmingham\, UK in the post-punk era. They were a much-loved band who combined fun\, dancey music with an innovative and\, for that time\, a daringly progressive message. In their original form they were 2 women and 2 men\, the objective being to show that women and men can work together as equals. Lesley Woods led the band as frontperson\, lead singer\, songwriter and guitarist. Lesley was once described as “”one of the most striking women in British rock”. Their first album ‘Playing With A Different Sex’ is a post-punk classic and focusses on gender and other politics. A critic from The Guardian praised it for its “viciously well-observed lyrics on contemporary life\, love and the role of women “. \nThe band is re-forming beginning 2026 when they commence a UK tour with Lesley Woods and new members. The 2 women/2 men balance remains . Au Pairs blend political lyrics with a tough funk-dance-rock idiom which is as relevant today as it ever was. \nSpecial guest support is Gina Birch and the Unreasonables. Gina Birch was a founding member of influential post-punk group The Raincoats. Her next project was Rough Trade Records signings Dorothy. Gina’s debut solo LP ‘I Play My Bass Loud’ was released in 2021 and her second release ‘Trouble’ is out now.
URL:https://keepcolchestercool.co.uk/event/au-pairs/
LOCATION:Church St\, CO1 1NF Colchester\, United Kingdom
ATTACH;FMTTYPE=image/jpeg:https://keepcolchestercool.co.uk/wp-content/uploads/129348_image_641459668_1332826405546192_5902984423117808201_n.jpg
ORGANIZER;CN="Colchester Arts Centre":MAILTO:noreply@facebookmail_com
END:VEVENT
END:VCALENDAR