BEGIN:VCALENDAR
VERSION:2.0
PRODID:-//Keep Colchester Cool - ECPv6.15.20//NONSGML v1.0//EN
CALSCALE:GREGORIAN
METHOD:PUBLISH
X-WR-CALNAME:Keep Colchester Cool
X-ORIGINAL-URL:https://keepcolchestercool.co.uk
X-WR-CALDESC:Events for Keep Colchester Cool
REFRESH-INTERVAL;VALUE=DURATION:PT1H
X-Robots-Tag:noindex
X-PUBLISHED-TTL:PT1H
BEGIN:VTIMEZONE
TZID:Europe/London
BEGIN:DAYLIGHT
TZOFFSETFROM:+0000
TZOFFSETTO:+0100
TZNAME:BST
DTSTART:20240331T010000
END:DAYLIGHT
BEGIN:STANDARD
TZOFFSETFROM:+0100
TZOFFSETTO:+0000
TZNAME:GMT
DTSTART:20241027T010000
END:STANDARD
BEGIN:DAYLIGHT
TZOFFSETFROM:+0000
TZOFFSETTO:+0100
TZNAME:BST
DTSTART:20250330T010000
END:DAYLIGHT
BEGIN:STANDARD
TZOFFSETFROM:+0100
TZOFFSETTO:+0000
TZNAME:GMT
DTSTART:20251026T010000
END:STANDARD
BEGIN:DAYLIGHT
TZOFFSETFROM:+0000
TZOFFSETTO:+0100
TZNAME:BST
DTSTART:20260329T010000
END:DAYLIGHT
BEGIN:STANDARD
TZOFFSETFROM:+0100
TZOFFSETTO:+0000
TZNAME:GMT
DTSTART:20261025T010000
END:STANDARD
END:VTIMEZONE
BEGIN:VEVENT
DTSTART;TZID=Europe/London:20250921T110000
DTEND;TZID=Europe/London:20250921T140000
DTSTAMP:20260424T193605
CREATED:20250827T071016Z
LAST-MODIFIED:20250921T070959Z
UID:125940-1758452400-1758463200@keepcolchestercool.co.uk
SUMMARY:Bach to Baby Concert for Babies\, Kids & You: It's a String Thing!
DESCRIPTION:Beach days are over\, but here’s a treat for the whole family! Bach to Baby return to the gorgeous barn at Layer Marney Tower for some more musical magic.Tots are free to dance\, shout\, and roam about to sparkling string duets and favourite nursery rhyme singalongs hosted by violinist Katy Johns and cellist Daisy Vatalaro.Each ticket admits 1 adult and 2 kids (under 12) to beautiful Layer Marney Tower with its play areas\, café\, and tower to explore.
URL:https://keepcolchestercool.co.uk/event/bach-to-baby-family-concert-its-a-string-thing/
LOCATION:Layer Marney Tower
ORGANIZER;CN="Roman River Festival":MAILTO:noreply@facebookmail.com
END:VEVENT
END:VCALENDAR