BEGIN:VCALENDAR
VERSION:2.0
PRODID:-//Keep Colchester Cool - ECPv6.15.20//NONSGML v1.0//EN
CALSCALE:GREGORIAN
METHOD:PUBLISH
X-WR-CALNAME:Keep Colchester Cool
X-ORIGINAL-URL:https://keepcolchestercool.co.uk
X-WR-CALDESC:Events for Keep Colchester Cool
REFRESH-INTERVAL;VALUE=DURATION:PT1H
X-Robots-Tag:noindex
X-PUBLISHED-TTL:PT1H
BEGIN:VTIMEZONE
TZID:Europe/London
BEGIN:DAYLIGHT
TZOFFSETFROM:+0000
TZOFFSETTO:+0100
TZNAME:BST
DTSTART:20250330T010000
END:DAYLIGHT
BEGIN:STANDARD
TZOFFSETFROM:+0100
TZOFFSETTO:+0000
TZNAME:GMT
DTSTART:20251026T010000
END:STANDARD
BEGIN:DAYLIGHT
TZOFFSETFROM:+0000
TZOFFSETTO:+0100
TZNAME:BST
DTSTART:20260329T010000
END:DAYLIGHT
BEGIN:STANDARD
TZOFFSETFROM:+0100
TZOFFSETTO:+0000
TZNAME:GMT
DTSTART:20261025T010000
END:STANDARD
BEGIN:DAYLIGHT
TZOFFSETFROM:+0000
TZOFFSETTO:+0100
TZNAME:BST
DTSTART:20270328T010000
END:DAYLIGHT
BEGIN:STANDARD
TZOFFSETFROM:+0100
TZOFFSETTO:+0000
TZNAME:GMT
DTSTART:20271031T010000
END:STANDARD
END:VTIMEZONE
BEGIN:VEVENT
DTSTART;TZID=Europe/London:20260411T140000
DTEND;TZID=Europe/London:20260411T170000
DTSTAMP:20260424T011503
CREATED:20260210T071050Z
LAST-MODIFIED:20260226T071224Z
UID:128289-1775916000-1775926800@keepcolchestercool.co.uk
SUMMARY:Beginners Embroidery Workshop
DESCRIPTION:Join us for a creative Beginners Embroidery Workshop on Saturday 11th April\, 2pm – 4pm £25PP held at the workroom next to Colcheco. \nJoin us for a relaxed and welcoming beginners embroidery workshop\, perfect if you’ve always wanted to try embroidery but didn’t know where to start. This creative session will gently guide you through the basics\, step by step. \nYou will learn how to stretch fabric onto an embroidery hoopA selection of essential stitches\, knots\, and techniquesTips for neat\, confident hand stitching \nNo experience is needed at all – this workshop is designed specifically for beginners and is a lovely way to enjoy some mindful\, creative time. \nThe workshop takes place in the workroom next to Colcheco on Layer Road. Toilet facilities are available within the Colcheco shop. \nAll materials\, tools and expert tuition \nTea\, coffee and slice of cake available  \nSpaces are limited\, so booking is essential. Join us for an enjoyable afternoon of stitching\, learning\, and creativity. \nBook your tickets here: https://www.thecreativeworkshopcompany.co.uk/event-details/beginners-embroidery-workshop
URL:https://keepcolchestercool.co.uk/event/beginners-embroidery-workshop/
LOCATION:Colcheco\, Colcheco
ATTACH;FMTTYPE=image/jpeg:https://keepcolchestercool.co.uk/wp-content/uploads/128289_image_615133296_896605722900630_2806213675480536303_n.jpg
ORGANIZER;CN="The Creative Workshop Company":MAILTO:noreply@facebookmail.com
END:VEVENT
END:VCALENDAR