BEGIN:VCALENDAR
VERSION:2.0
PRODID:-//Keep Colchester Cool - ECPv6.15.20//NONSGML v1.0//EN
CALSCALE:GREGORIAN
METHOD:PUBLISH
X-WR-CALNAME:Keep Colchester Cool
X-ORIGINAL-URL:https://keepcolchestercool.co.uk
X-WR-CALDESC:Events for Keep Colchester Cool
REFRESH-INTERVAL;VALUE=DURATION:PT1H
X-Robots-Tag:noindex
X-PUBLISHED-TTL:PT1H
BEGIN:VTIMEZONE
TZID:Europe/London
BEGIN:DAYLIGHT
TZOFFSETFROM:+0000
TZOFFSETTO:+0100
TZNAME:BST
DTSTART:20240331T010000
END:DAYLIGHT
BEGIN:STANDARD
TZOFFSETFROM:+0100
TZOFFSETTO:+0000
TZNAME:GMT
DTSTART:20241027T010000
END:STANDARD
BEGIN:DAYLIGHT
TZOFFSETFROM:+0000
TZOFFSETTO:+0100
TZNAME:BST
DTSTART:20250330T010000
END:DAYLIGHT
BEGIN:STANDARD
TZOFFSETFROM:+0100
TZOFFSETTO:+0000
TZNAME:GMT
DTSTART:20251026T010000
END:STANDARD
BEGIN:DAYLIGHT
TZOFFSETFROM:+0000
TZOFFSETTO:+0100
TZNAME:BST
DTSTART:20260329T010000
END:DAYLIGHT
BEGIN:STANDARD
TZOFFSETFROM:+0100
TZOFFSETTO:+0000
TZNAME:GMT
DTSTART:20261025T010000
END:STANDARD
END:VTIMEZONE
BEGIN:VEVENT
DTSTART;TZID=Europe/London:20250909T193000
DTEND;TZID=Europe/London:20250909T223000
DTSTAMP:20260424T191419
CREATED:20250702T071019Z
LAST-MODIFIED:20250909T070956Z
UID:125207-1757446200-1757457000@keepcolchestercool.co.uk
SUMMARY:Ben Miller: Volcano Show
DESCRIPTION:Tickets £16.50.Doors open 7.30pm\, show starts 8pm.This show is recommended for ages 18+. \nWhat happens when a comedian walks into a volcano? \nIn 2023\, Ben Miller was the artist in residence at Hawai’i Volcanoes National Park\, the first ever stand-up comedian ever selected. This was probably a terrible idea on their part. \nCome watch this show where scientist turned stand-up comedian Ben Miller explores volcanology\, entomology\, Hawaiian history\, cats\, cookies\, and more. And yes that photo is real. Ben has made people laugh in front of a burning lava lake and he is not afraid of you. \nBen Miller is an NYC based scientist turned comedian who has been working for the past 8 years. In that time\, he has performed at all the top clubs in the city such as Broadway Comedy Club\, Carolines\, and The Stand. Ben was once ranked as the top roast battler in NYC. He has a degree in Materials Science and Engineering\, worked on a science bus\, 3D printed cookies and has diffused a few bar fights while on stage. In 2022\, Ben Miller’s debut hour\, Stand-Up Science\, had a completely sold-out run at the Edinburgh Fringe Festival and he now tours internationally.
URL:https://keepcolchestercool.co.uk/event/ben-miller-volcano-show/
LOCATION:Church St\, CO1 1NF Colchester\, United Kingdom
ORGANIZER;CN="Colchester Arts Centre":MAILTO:noreply@facebookmail_com
END:VEVENT
END:VCALENDAR