BEGIN:VCALENDAR
VERSION:2.0
PRODID:-//Keep Colchester Cool - ECPv6.15.20//NONSGML v1.0//EN
CALSCALE:GREGORIAN
METHOD:PUBLISH
X-WR-CALNAME:Keep Colchester Cool
X-ORIGINAL-URL:https://keepcolchestercool.co.uk
X-WR-CALDESC:Events for Keep Colchester Cool
REFRESH-INTERVAL;VALUE=DURATION:PT1H
X-Robots-Tag:noindex
X-PUBLISHED-TTL:PT1H
BEGIN:VTIMEZONE
TZID:Europe/London
BEGIN:DAYLIGHT
TZOFFSETFROM:+0000
TZOFFSETTO:+0100
TZNAME:BST
DTSTART:20250330T010000
END:DAYLIGHT
BEGIN:STANDARD
TZOFFSETFROM:+0100
TZOFFSETTO:+0000
TZNAME:GMT
DTSTART:20251026T010000
END:STANDARD
BEGIN:DAYLIGHT
TZOFFSETFROM:+0000
TZOFFSETTO:+0100
TZNAME:BST
DTSTART:20260329T010000
END:DAYLIGHT
BEGIN:STANDARD
TZOFFSETFROM:+0100
TZOFFSETTO:+0000
TZNAME:GMT
DTSTART:20261025T010000
END:STANDARD
BEGIN:DAYLIGHT
TZOFFSETFROM:+0000
TZOFFSETTO:+0100
TZNAME:BST
DTSTART:20270328T010000
END:DAYLIGHT
BEGIN:STANDARD
TZOFFSETFROM:+0100
TZOFFSETTO:+0000
TZNAME:GMT
DTSTART:20271031T010000
END:STANDARD
END:VTIMEZONE
BEGIN:VEVENT
DTSTART;TZID=Europe/London:20260109T190000
DTEND;TZID=Europe/London:20260109T213000
DTSTAMP:20260424T090833
CREATED:20251210T071016Z
LAST-MODIFIED:20260109T071036Z
UID:127501-1767985200-1767994200@keepcolchestercool.co.uk
SUMMARY:Breathing Beat
DESCRIPTION:Join us for a 2 hour 30 mins immersive experience like no other.We blend powerful SOMA Breathwork with deep\, uplifting house music —creating a space for transformation\, movement\, and JOY.💃 Sober dancefloor vibes🌬️ Conscious connected breathing🎶 Curated house beats✨ Natural highs + community connectionLed by:🎧 Sarah – Soulful House DJ🌬️ Gabrielle – Certified Level 2 SOMA Breath Coach \n✨ Come home to your breath.✨ Come alive on the dancefloor.Get high on your own supply.We are THE BREATHING BEAT 💥
URL:https://keepcolchestercool.co.uk/event/breathing-beat/
LOCATION:Firstsite Colchester\, Firstsite Colchester
END:VEVENT
END:VCALENDAR