BEGIN:VCALENDAR
VERSION:2.0
PRODID:-//Keep Colchester Cool - ECPv6.15.20//NONSGML v1.0//EN
CALSCALE:GREGORIAN
METHOD:PUBLISH
X-WR-CALNAME:Keep Colchester Cool
X-ORIGINAL-URL:https://keepcolchestercool.co.uk
X-WR-CALDESC:Events for Keep Colchester Cool
REFRESH-INTERVAL;VALUE=DURATION:PT1H
X-Robots-Tag:noindex
X-PUBLISHED-TTL:PT1H
BEGIN:VTIMEZONE
TZID:Europe/London
BEGIN:DAYLIGHT
TZOFFSETFROM:+0000
TZOFFSETTO:+0100
TZNAME:BST
DTSTART:20240331T010000
END:DAYLIGHT
BEGIN:STANDARD
TZOFFSETFROM:+0100
TZOFFSETTO:+0000
TZNAME:GMT
DTSTART:20241027T010000
END:STANDARD
BEGIN:DAYLIGHT
TZOFFSETFROM:+0000
TZOFFSETTO:+0100
TZNAME:BST
DTSTART:20250330T010000
END:DAYLIGHT
BEGIN:STANDARD
TZOFFSETFROM:+0100
TZOFFSETTO:+0000
TZNAME:GMT
DTSTART:20251026T010000
END:STANDARD
BEGIN:DAYLIGHT
TZOFFSETFROM:+0000
TZOFFSETTO:+0100
TZNAME:BST
DTSTART:20260329T010000
END:DAYLIGHT
BEGIN:STANDARD
TZOFFSETFROM:+0100
TZOFFSETTO:+0000
TZNAME:GMT
DTSTART:20261025T010000
END:STANDARD
END:VTIMEZONE
BEGIN:VEVENT
DTSTART;TZID=Europe/London:20251102T150000
DTEND;TZID=Europe/London:20251102T170000
DTSTAMP:20260423T132907
CREATED:20250527T071037Z
LAST-MODIFIED:20251102T071005Z
UID:124737-1762095600-1762102800@keepcolchestercool.co.uk
SUMMARY:Calm At The Castle
DESCRIPTION:Join us on the first Sunday of the month for a little calm at Colchester Castle. \nThese sessions are suitable for visitors with ASD\, providing an opportunity for them to explore the museum at a quieter time. We aim to minimise sensory stimulation in the galleries by turning off audio and visuals and providing a sensory space off the main gallery. \nEar defenders\, visual guides and twiddlemuffs are available from the Museum’s reception free of charge. \nYou can find out more about our autism-friendly resources by visiting our Access page. \nThis event is included in Castle admission. There is no need to book; just purchase general admission tickets to the Castle\, or consider a Museums Pass to enjoy unlimited visits during the year!
URL:https://keepcolchestercool.co.uk/event/calm-at-the-castle-8/
LOCATION:Colchester Castle\, Colchester Castle
ORGANIZER;CN="Colchester Museums":MAILTO:noreply@facebookmail.com
END:VEVENT
END:VCALENDAR