BEGIN:VCALENDAR
VERSION:2.0
PRODID:-//Keep Colchester Cool - ECPv6.15.20//NONSGML v1.0//EN
CALSCALE:GREGORIAN
METHOD:PUBLISH
X-WR-CALNAME:Keep Colchester Cool
X-ORIGINAL-URL:https://keepcolchestercool.co.uk
X-WR-CALDESC:Events for Keep Colchester Cool
REFRESH-INTERVAL;VALUE=DURATION:PT1H
X-Robots-Tag:noindex
X-PUBLISHED-TTL:PT1H
BEGIN:VTIMEZONE
TZID:Europe/London
BEGIN:DAYLIGHT
TZOFFSETFROM:+0000
TZOFFSETTO:+0100
TZNAME:BST
DTSTART:20250330T010000
END:DAYLIGHT
BEGIN:STANDARD
TZOFFSETFROM:+0100
TZOFFSETTO:+0000
TZNAME:GMT
DTSTART:20251026T010000
END:STANDARD
BEGIN:DAYLIGHT
TZOFFSETFROM:+0000
TZOFFSETTO:+0100
TZNAME:BST
DTSTART:20260329T010000
END:DAYLIGHT
BEGIN:STANDARD
TZOFFSETFROM:+0100
TZOFFSETTO:+0000
TZNAME:GMT
DTSTART:20261025T010000
END:STANDARD
BEGIN:DAYLIGHT
TZOFFSETFROM:+0000
TZOFFSETTO:+0100
TZNAME:BST
DTSTART:20270328T010000
END:DAYLIGHT
BEGIN:STANDARD
TZOFFSETFROM:+0100
TZOFFSETTO:+0000
TZNAME:GMT
DTSTART:20271031T010000
END:STANDARD
END:VTIMEZONE
BEGIN:VEVENT
DTSTART;TZID=Europe/London:20260110T190000
DTEND;TZID=Europe/London:20260110T220000
DTSTAMP:20260424T090637
CREATED:20260105T071011Z
LAST-MODIFIED:20260110T071003Z
UID:127582-1768071600-1768082400@keepcolchestercool.co.uk
SUMMARY:Chest
DESCRIPTION:Energetic\, enigmatic and effortlessly stylish\, Norwich band Chest. Emerging in 2024 they quickly demanded attention from industry tastemakers and indie fans alike. Early releases earned them radio support from BBC Radio 1\, BBC Radio 6\, and local stations\, while a furious live schedule saw them turning heads across the UK with fierce\, raw performances that cemented their status as a must-see live band. \n+ Greebo – a trio who have been winning over audiences since their very first show. One’s to watch for the future but get here early and enjoy them getting the crowd going. \n+ GT William – Stripped-back\, acoustic country vibes from a Chelmsford singer-songwriter’s heart\, born from late nights and life’s simple moments \nSaturday 10th January\, Doors 7:30pm\, FREE ENTRYThree Wise Monkeys\, Colchester \nPlease note that access to the top floor of Three Wise Monkeys does not have a lift\, but there are rest opportunities between each flight of stairs. Viewer discretion is advised: This show may potentially contain flashing and strobing lighting effects.
URL:https://keepcolchestercool.co.uk/event/chest/
LOCATION:60 High Street\, CO1 1DN Colchester\, United Kingdom\, 60 High Street\, CO1 1DN Colchester\, United Kingdom
ORGANIZER;CN="Three Wise Monkeys Colchester":MAILTO:noreply@facebookmail_com
END:VEVENT
END:VCALENDAR