BEGIN:VCALENDAR
VERSION:2.0
PRODID:-//Keep Colchester Cool - ECPv6.15.20//NONSGML v1.0//EN
CALSCALE:GREGORIAN
METHOD:PUBLISH
X-WR-CALNAME:Keep Colchester Cool
X-ORIGINAL-URL:https://keepcolchestercool.co.uk
X-WR-CALDESC:Events for Keep Colchester Cool
REFRESH-INTERVAL;VALUE=DURATION:PT1H
X-Robots-Tag:noindex
X-PUBLISHED-TTL:PT1H
BEGIN:VTIMEZONE
TZID:Europe/London
BEGIN:DAYLIGHT
TZOFFSETFROM:+0000
TZOFFSETTO:+0100
TZNAME:BST
DTSTART:20240331T010000
END:DAYLIGHT
BEGIN:STANDARD
TZOFFSETFROM:+0100
TZOFFSETTO:+0000
TZNAME:GMT
DTSTART:20241027T010000
END:STANDARD
BEGIN:DAYLIGHT
TZOFFSETFROM:+0000
TZOFFSETTO:+0100
TZNAME:BST
DTSTART:20250330T010000
END:DAYLIGHT
BEGIN:STANDARD
TZOFFSETFROM:+0100
TZOFFSETTO:+0000
TZNAME:GMT
DTSTART:20251026T010000
END:STANDARD
BEGIN:DAYLIGHT
TZOFFSETFROM:+0000
TZOFFSETTO:+0100
TZNAME:BST
DTSTART:20260329T010000
END:DAYLIGHT
BEGIN:STANDARD
TZOFFSETFROM:+0100
TZOFFSETTO:+0000
TZNAME:GMT
DTSTART:20261025T010000
END:STANDARD
END:VTIMEZONE
BEGIN:VEVENT
DTSTART;TZID=Europe/London:20251109T123000
DTEND;TZID=Europe/London:20251109T153000
DTSTAMP:20260424T141549
CREATED:20251025T071029Z
LAST-MODIFIED:20251105T071035Z
UID:126755-1762691400-1762702200@keepcolchestercool.co.uk
SUMMARY:Christmas Candle Decorating Workshop - The Minories
DESCRIPTION:Want your Christmas to be truly unique this? Join Jen Rowley for a relaxing two-hour workshop\, where you design and paint candles that will make your Christmas a truly personal one. \nAll materials provides\, suitable for beginners. \nBook Via the link below – https://www.theminories.org/event/christmas-workshop-candle-decorating
URL:https://keepcolchestercool.co.uk/event/christmas-candle-decorating-workshop-the-minories/
LOCATION:The Minories\, Colchester\, The Minories\, Colchester
ORGANIZER;CN="The Creative Workshop Company":MAILTO:noreply@facebookmail.com
END:VEVENT
END:VCALENDAR