BEGIN:VCALENDAR
VERSION:2.0
PRODID:-//Keep Colchester Cool - ECPv6.15.20//NONSGML v1.0//EN
CALSCALE:GREGORIAN
METHOD:PUBLISH
X-WR-CALNAME:Keep Colchester Cool
X-ORIGINAL-URL:https://keepcolchestercool.co.uk
X-WR-CALDESC:Events for Keep Colchester Cool
REFRESH-INTERVAL;VALUE=DURATION:PT1H
X-Robots-Tag:noindex
X-PUBLISHED-TTL:PT1H
BEGIN:VTIMEZONE
TZID:Europe/London
BEGIN:DAYLIGHT
TZOFFSETFROM:+0000
TZOFFSETTO:+0100
TZNAME:BST
DTSTART:20240331T010000
END:DAYLIGHT
BEGIN:STANDARD
TZOFFSETFROM:+0100
TZOFFSETTO:+0000
TZNAME:GMT
DTSTART:20241027T010000
END:STANDARD
BEGIN:DAYLIGHT
TZOFFSETFROM:+0000
TZOFFSETTO:+0100
TZNAME:BST
DTSTART:20250330T010000
END:DAYLIGHT
BEGIN:STANDARD
TZOFFSETFROM:+0100
TZOFFSETTO:+0000
TZNAME:GMT
DTSTART:20251026T010000
END:STANDARD
BEGIN:DAYLIGHT
TZOFFSETFROM:+0000
TZOFFSETTO:+0100
TZNAME:BST
DTSTART:20260329T010000
END:DAYLIGHT
BEGIN:STANDARD
TZOFFSETFROM:+0100
TZOFFSETTO:+0000
TZNAME:GMT
DTSTART:20261025T010000
END:STANDARD
END:VTIMEZONE
BEGIN:VEVENT
DTSTART;TZID=Europe/London:20251122T100000
DTEND;TZID=Europe/London:20251122T193000
DTSTAMP:20260424T152806
CREATED:20251118T071011Z
LAST-MODIFIED:20251122T071013Z
UID:127242-1763805600-1763839800@keepcolchestercool.co.uk
SUMMARY:Christmas Fayre\, Live Music & Entertainment!🎄
DESCRIPTION:Join us at Culver Square on 22nd November\, 10am – 7:30pm for a festive day out before the town Christmas light switch on. \nEnjoy dance performances from local schools\, live entertainment\, and browse 12 local stalls selling gifts\, treats\, drinks\, and more: \nSweet Delights Milson Rose Gifts & Events Bobbin Along SandSJewellery Essex Sparkle HolsBakes Once Upon A High Tide Flossie’s Coastal Craft Bars 4 Events Ltd Country Cottage Preserves PS Bride Babes Little Dainty Closet \nPlus\, meet some magical reindeer from 2pm – 6pm where you can purchase reindeer food\, with all donations going directly to Colchester Foodbank! \n👉 Find out more and plan your visit: www.culversquare.co.uk/christmas-fayre-at-culver-square/
URL:https://keepcolchestercool.co.uk/event/christmas-fayre-live-music-entertainment%f0%9f%8e%84/
LOCATION:7A Culver Square\, CO1 1JQ Colchester\, United Kingdom\, 7A Culver Square\, CO1 1JQ Colchester\, United Kingdom
ORGANIZER;CN="Culver Square":MAILTO:noreply@facebookmail_com
END:VEVENT
END:VCALENDAR