BEGIN:VCALENDAR
VERSION:2.0
PRODID:-//Keep Colchester Cool - ECPv6.15.20//NONSGML v1.0//EN
CALSCALE:GREGORIAN
METHOD:PUBLISH
X-WR-CALNAME:Keep Colchester Cool
X-ORIGINAL-URL:https://keepcolchestercool.co.uk
X-WR-CALDESC:Events for Keep Colchester Cool
REFRESH-INTERVAL;VALUE=DURATION:PT1H
X-Robots-Tag:noindex
X-PUBLISHED-TTL:PT1H
BEGIN:VTIMEZONE
TZID:Europe/London
BEGIN:DAYLIGHT
TZOFFSETFROM:+0000
TZOFFSETTO:+0100
TZNAME:BST
DTSTART:20240331T010000
END:DAYLIGHT
BEGIN:STANDARD
TZOFFSETFROM:+0100
TZOFFSETTO:+0000
TZNAME:GMT
DTSTART:20241027T010000
END:STANDARD
BEGIN:DAYLIGHT
TZOFFSETFROM:+0000
TZOFFSETTO:+0100
TZNAME:BST
DTSTART:20250330T010000
END:DAYLIGHT
BEGIN:STANDARD
TZOFFSETFROM:+0100
TZOFFSETTO:+0000
TZNAME:GMT
DTSTART:20251026T010000
END:STANDARD
BEGIN:DAYLIGHT
TZOFFSETFROM:+0000
TZOFFSETTO:+0100
TZNAME:BST
DTSTART:20260329T010000
END:DAYLIGHT
BEGIN:STANDARD
TZOFFSETFROM:+0100
TZOFFSETTO:+0000
TZNAME:GMT
DTSTART:20261025T010000
END:STANDARD
END:VTIMEZONE
BEGIN:VEVENT
DTSTART;TZID=Europe/London:20251116T093000
DTEND;TZID=Europe/London:20251116T113000
DTSTAMP:20260424T155828
CREATED:20251008T071044Z
LAST-MODIFIED:20251110T071014Z
UID:126394-1763285400-1763292600@keepcolchestercool.co.uk
SUMMARY:Christmas Wreath Making Workshop
DESCRIPTION:Come and make a fresh start Christmas wreath at The Minories . \nAll materials provided and no experience required. Please feel free to bring any extra foliage or decorations. \nIncludes hot beverages and Christmassy treats. \n£42.50pp classic round wreath£49.50pp star shaped wreath \nhttps://www.thecreativeworkshopcompany.co.uk/event-details/christmas-wreath-making-workshop-10
URL:https://keepcolchestercool.co.uk/event/christmas-wreath-making-workshop-4/
LOCATION:The Minories\, Colchester\, The Minories\, Colchester
ORGANIZER;CN="The Creative Workshop Company":MAILTO:noreply@facebookmail.com
END:VEVENT
END:VCALENDAR