BEGIN:VCALENDAR
VERSION:2.0
PRODID:-//Keep Colchester Cool - ECPv6.15.20//NONSGML v1.0//EN
CALSCALE:GREGORIAN
METHOD:PUBLISH
X-WR-CALNAME:Keep Colchester Cool
X-ORIGINAL-URL:https://keepcolchestercool.co.uk
X-WR-CALDESC:Events for Keep Colchester Cool
REFRESH-INTERVAL;VALUE=DURATION:PT1H
X-Robots-Tag:noindex
X-PUBLISHED-TTL:PT1H
BEGIN:VTIMEZONE
TZID:Europe/London
BEGIN:DAYLIGHT
TZOFFSETFROM:+0000
TZOFFSETTO:+0100
TZNAME:BST
DTSTART:20240331T010000
END:DAYLIGHT
BEGIN:STANDARD
TZOFFSETFROM:+0100
TZOFFSETTO:+0000
TZNAME:GMT
DTSTART:20241027T010000
END:STANDARD
BEGIN:DAYLIGHT
TZOFFSETFROM:+0000
TZOFFSETTO:+0100
TZNAME:BST
DTSTART:20250330T010000
END:DAYLIGHT
BEGIN:STANDARD
TZOFFSETFROM:+0100
TZOFFSETTO:+0000
TZNAME:GMT
DTSTART:20251026T010000
END:STANDARD
BEGIN:DAYLIGHT
TZOFFSETFROM:+0000
TZOFFSETTO:+0100
TZNAME:BST
DTSTART:20260329T010000
END:DAYLIGHT
BEGIN:STANDARD
TZOFFSETFROM:+0100
TZOFFSETTO:+0000
TZNAME:GMT
DTSTART:20261025T010000
END:STANDARD
END:VTIMEZONE
BEGIN:VEVENT
DTSTART;TZID=Europe/London:20251119T183000
DTEND;TZID=Europe/London:20251119T213000
DTSTAMP:20260424T155921
CREATED:20251008T071047Z
LAST-MODIFIED:20251119T071027Z
UID:126400-1763577000-1763587800@keepcolchestercool.co.uk
SUMMARY:Christmas Wreath Making Workshop at The Alma
DESCRIPTION:Come and make a fresh Christmas wreath at The Alma with a Hot Beverage and Cake or lunch.Choice of the following delicious lunches:Fish & chipsBraised bavette\, horseradish mash\, bacon savoy cabbage and red wine jusChickpea tagine\, couscous and saladAll materials provided and no experience required.Email info@thecreativeworkshopcompany.co.uk to book via PayPal or bank transfer (no fees) or via eventbrite (fees apply)
URL:https://keepcolchestercool.co.uk/event/christmas-wreath-making-workshop-at-the-alma/
LOCATION:The Alma\, Copford\, The Alma\, Copford
ORGANIZER;CN="The Creative Workshop Company":MAILTO:noreply@facebookmail.com
END:VEVENT
END:VCALENDAR