BEGIN:VCALENDAR
VERSION:2.0
PRODID:-//Keep Colchester Cool - ECPv6.15.20//NONSGML v1.0//EN
CALSCALE:GREGORIAN
METHOD:PUBLISH
X-WR-CALNAME:Keep Colchester Cool
X-ORIGINAL-URL:https://keepcolchestercool.co.uk
X-WR-CALDESC:Events for Keep Colchester Cool
REFRESH-INTERVAL;VALUE=DURATION:PT1H
X-Robots-Tag:noindex
X-PUBLISHED-TTL:PT1H
BEGIN:VTIMEZONE
TZID:Europe/London
BEGIN:DAYLIGHT
TZOFFSETFROM:+0000
TZOFFSETTO:+0100
TZNAME:BST
DTSTART:20250330T010000
END:DAYLIGHT
BEGIN:STANDARD
TZOFFSETFROM:+0100
TZOFFSETTO:+0000
TZNAME:GMT
DTSTART:20251026T010000
END:STANDARD
BEGIN:DAYLIGHT
TZOFFSETFROM:+0000
TZOFFSETTO:+0100
TZNAME:BST
DTSTART:20260329T010000
END:DAYLIGHT
BEGIN:STANDARD
TZOFFSETFROM:+0100
TZOFFSETTO:+0000
TZNAME:GMT
DTSTART:20261025T010000
END:STANDARD
BEGIN:DAYLIGHT
TZOFFSETFROM:+0000
TZOFFSETTO:+0100
TZNAME:BST
DTSTART:20270328T010000
END:DAYLIGHT
BEGIN:STANDARD
TZOFFSETFROM:+0100
TZOFFSETTO:+0000
TZNAME:GMT
DTSTART:20271031T010000
END:STANDARD
END:VTIMEZONE
BEGIN:VEVENT
DTSTART;TZID=Europe/London:20260125T193000
DTEND;TZID=Europe/London:20260125T213000
DTSTAMP:20260424T110131
CREATED:20260113T071020Z
LAST-MODIFIED:20260125T071003Z
UID:127770-1769369400-1769376600@keepcolchestercool.co.uk
SUMMARY:Clark Tracey's Jazz Champions @ The Music Mix
DESCRIPTION:Prepare yourself for a cracking evening’s jazz\, courtesy ofaward-winning drummer\, bandleader\, composer\, and arranger Clark Tracey and his Jazz Champions!  \nClark\, who originally performed with his late\, great father\, Stan Tracey (CBE)\, has gone on to establish himself in his own right as one of the country’s leading modern jazz drummers.​A five-time winner of the Best Drummer category in the British Jazz Awards\, Clark has built a reputation since the early 80s as someone who could spot future jazz stars; Guy Barker\, Alex Ridout\, Daniel Casimir\, Zoe Rahman\, and Mark Armstrong are just a few whose talent he nurtured. \nAwarded the British Empire Medal (BEM) in the 2019 Birthday Honours for services to music and the promotion of jazz\, Clark’s latest group\, The Jazz Champions\, features a stellar line-up of well-respected top-drawer musicians from the UK jazz scene with CVs to match: Art Themen\, Simon Allen\, David Newton\, and Andrew Cleyndert. \nFormed in April 2024\, the Jazz Championswill perform tunes from their recently released CD Sound For Sore Ears\, along with an assortment of Stan Tracey favourites.
URL:https://keepcolchestercool.co.uk/event/clark-traceys-jazz-champions-the-music-mix/
LOCATION:Wivenhoe Congregational Church\, 101 High Street\, Colchester\, CO7 9AB\, GB
ORGANIZER;CN="Steve Wright":MAILTO:noreply@facebookmail_com
END:VEVENT
END:VCALENDAR