BEGIN:VCALENDAR
VERSION:2.0
PRODID:-//Keep Colchester Cool - ECPv6.15.20//NONSGML v1.0//EN
CALSCALE:GREGORIAN
METHOD:PUBLISH
X-WR-CALNAME:Keep Colchester Cool
X-ORIGINAL-URL:https://keepcolchestercool.co.uk
X-WR-CALDESC:Events for Keep Colchester Cool
REFRESH-INTERVAL;VALUE=DURATION:PT1H
X-Robots-Tag:noindex
X-PUBLISHED-TTL:PT1H
BEGIN:VTIMEZONE
TZID:Europe/London
BEGIN:DAYLIGHT
TZOFFSETFROM:+0000
TZOFFSETTO:+0100
TZNAME:BST
DTSTART:20240331T010000
END:DAYLIGHT
BEGIN:STANDARD
TZOFFSETFROM:+0100
TZOFFSETTO:+0000
TZNAME:GMT
DTSTART:20241027T010000
END:STANDARD
BEGIN:DAYLIGHT
TZOFFSETFROM:+0000
TZOFFSETTO:+0100
TZNAME:BST
DTSTART:20250330T010000
END:DAYLIGHT
BEGIN:STANDARD
TZOFFSETFROM:+0100
TZOFFSETTO:+0000
TZNAME:GMT
DTSTART:20251026T010000
END:STANDARD
BEGIN:DAYLIGHT
TZOFFSETFROM:+0000
TZOFFSETTO:+0100
TZNAME:BST
DTSTART:20260329T010000
END:DAYLIGHT
BEGIN:STANDARD
TZOFFSETFROM:+0100
TZOFFSETTO:+0000
TZNAME:GMT
DTSTART:20261025T010000
END:STANDARD
END:VTIMEZONE
BEGIN:VEVENT
DTSTART;TZID=Europe/London:20250911T193000
DTEND;TZID=Europe/London:20250911T223000
DTSTAMP:20260424T210601
CREATED:20250702T071019Z
LAST-MODIFIED:20250911T071019Z
UID:125208-1757619000-1757629800@keepcolchestercool.co.uk
SUMMARY:Classic Horror Nights! Peter Cushing & Christopher Lee: Peoples' Choice
DESCRIPTION:Tickets £6.Doors open 7.30pm\, starts 8pm. \nMonthly nights of retro horror screenings from the mainly Brit school of Hammer\, Amicus etc. Presented by Classic Horror buff and local musician Jason Frederick. Popcorn\, a monthly themed cocktail\, plenty of dry ice and often very daft over-blown intros. Join us! \nPETER CUSHING & CHRISTOPHER LEE – YOU DECIDEWhat will it be? It’s up to you! Choose your favourite Lee / Cushing team up (films which feature BOTH actors). We’ll provide options – but get in touch if you’ve any ideas you’d like to see featured.
URL:https://keepcolchestercool.co.uk/event/classic-horror-nights-peter-cushing-christopher-lee-peoples-choice/
LOCATION:Church St\, CO1 1NF Colchester\, United Kingdom
ORGANIZER;CN="Colchester Arts Centre":MAILTO:noreply@facebookmail_com
END:VEVENT
END:VCALENDAR