BEGIN:VCALENDAR
VERSION:2.0
PRODID:-//Keep Colchester Cool - ECPv6.15.20//NONSGML v1.0//EN
CALSCALE:GREGORIAN
METHOD:PUBLISH
X-WR-CALNAME:Keep Colchester Cool
X-ORIGINAL-URL:https://keepcolchestercool.co.uk
X-WR-CALDESC:Events for Keep Colchester Cool
REFRESH-INTERVAL;VALUE=DURATION:PT1H
X-Robots-Tag:noindex
X-PUBLISHED-TTL:PT1H
BEGIN:VTIMEZONE
TZID:Europe/London
BEGIN:DAYLIGHT
TZOFFSETFROM:+0000
TZOFFSETTO:+0100
TZNAME:BST
DTSTART:20250330T010000
END:DAYLIGHT
BEGIN:STANDARD
TZOFFSETFROM:+0100
TZOFFSETTO:+0000
TZNAME:GMT
DTSTART:20251026T010000
END:STANDARD
BEGIN:DAYLIGHT
TZOFFSETFROM:+0000
TZOFFSETTO:+0100
TZNAME:BST
DTSTART:20260329T010000
END:DAYLIGHT
BEGIN:STANDARD
TZOFFSETFROM:+0100
TZOFFSETTO:+0000
TZNAME:GMT
DTSTART:20261025T010000
END:STANDARD
BEGIN:DAYLIGHT
TZOFFSETFROM:+0000
TZOFFSETTO:+0100
TZNAME:BST
DTSTART:20270328T010000
END:DAYLIGHT
BEGIN:STANDARD
TZOFFSETFROM:+0100
TZOFFSETTO:+0000
TZNAME:GMT
DTSTART:20271031T010000
END:STANDARD
END:VTIMEZONE
BEGIN:VEVENT
DTSTART;TZID=Europe/London:20260411T200000
DTEND;TZID=Europe/London:20260411T230000
DTSTAMP:20260424T011536
CREATED:20260113T071048Z
LAST-MODIFIED:20260226T071224Z
UID:127804-1775937600-1775948400@keepcolchestercool.co.uk
SUMMARY:Colchester Arts Centre
DESCRIPTION:Dire Streets bring to life the classic songs of one of the world’s greatest guitar bands with a level of musicianship and attention to detail that makes them the stand out Dire Straits tribute in the UK. \nThe two-hour theatre show includes faithful renditions of classic studio tracks along with extended live versions from some of the legendary Dire Straits concerts. \nFor the best part of a decade\, Dire Streets have performed Dire Straits’ incredible back catalogue to thousands of theatre-goers across the UK. \nNo other Dire Streets tribute act comes as close to reproducing Mark Knopfler’s distinctive guitar and vocal tones – making Dire Streets as near to the original band as you can see live. \nThe six-piece band is made up of some of the country’s top tribute musicians and delivers a stunning show that fulfils their mission of doing justice to one of the most original and talented bands the UK has ever produced.
URL:https://keepcolchestercool.co.uk/event/colchester-arts-centre/
LOCATION:Colchester Arts Centre\, Colchester Arts Centre
ATTACH;FMTTYPE=image/jpeg:https://keepcolchestercool.co.uk/wp-content/uploads/127804_image_574341587_1454566873159346_1663273218137877349_n.jpg
END:VEVENT
END:VCALENDAR