BEGIN:VCALENDAR
VERSION:2.0
PRODID:-//Keep Colchester Cool - ECPv6.15.20//NONSGML v1.0//EN
CALSCALE:GREGORIAN
METHOD:PUBLISH
X-WR-CALNAME:Keep Colchester Cool
X-ORIGINAL-URL:https://keepcolchestercool.co.uk
X-WR-CALDESC:Events for Keep Colchester Cool
REFRESH-INTERVAL;VALUE=DURATION:PT1H
X-Robots-Tag:noindex
X-PUBLISHED-TTL:PT1H
BEGIN:VTIMEZONE
TZID:Europe/London
BEGIN:DAYLIGHT
TZOFFSETFROM:+0000
TZOFFSETTO:+0100
TZNAME:BST
DTSTART:20240331T010000
END:DAYLIGHT
BEGIN:STANDARD
TZOFFSETFROM:+0100
TZOFFSETTO:+0000
TZNAME:GMT
DTSTART:20241027T010000
END:STANDARD
BEGIN:DAYLIGHT
TZOFFSETFROM:+0000
TZOFFSETTO:+0100
TZNAME:BST
DTSTART:20250330T010000
END:DAYLIGHT
BEGIN:STANDARD
TZOFFSETFROM:+0100
TZOFFSETTO:+0000
TZNAME:GMT
DTSTART:20251026T010000
END:STANDARD
BEGIN:DAYLIGHT
TZOFFSETFROM:+0000
TZOFFSETTO:+0100
TZNAME:BST
DTSTART:20260329T010000
END:DAYLIGHT
BEGIN:STANDARD
TZOFFSETFROM:+0100
TZOFFSETTO:+0000
TZNAME:GMT
DTSTART:20261025T010000
END:STANDARD
END:VTIMEZONE
BEGIN:VEVENT
DTSTART;TZID=Europe/London:20251215T180000
DTEND;TZID=Europe/London:20251215T210000
DTSTAMP:20260420T140832
CREATED:20251118T071029Z
LAST-MODIFIED:20251215T071007Z
UID:127249-1765821600-1765832400@keepcolchestercool.co.uk
SUMMARY:Colchester Christmas Carol
DESCRIPTION:🎄✨ A Christmas Carol at Colchester Castle! ✨🎄Join us on 15th December\, 6pm for Anthony Roberts’ one-man performance of Dickens’ classic — all in support of the Mayor’s Charities: \nColchester Foodbank • Level Best • The Underdog Crew • Open Road • The Not Forgotten \n🎟️ Tickets: http://tinyurl.com/christmascarolcastle \nDon’t miss this magical night for amazing causes! 💛
URL:https://keepcolchestercool.co.uk/event/colchester-christmas-carol/
LOCATION:Colchester Castle\, Colchester Castle
END:VEVENT
END:VCALENDAR