BEGIN:VCALENDAR
VERSION:2.0
PRODID:-//Keep Colchester Cool - ECPv6.15.20//NONSGML v1.0//EN
CALSCALE:GREGORIAN
METHOD:PUBLISH
X-WR-CALNAME:Keep Colchester Cool
X-ORIGINAL-URL:https://keepcolchestercool.co.uk
X-WR-CALDESC:Events for Keep Colchester Cool
REFRESH-INTERVAL;VALUE=DURATION:PT1H
X-Robots-Tag:noindex
X-PUBLISHED-TTL:PT1H
BEGIN:VTIMEZONE
TZID:Europe/London
BEGIN:DAYLIGHT
TZOFFSETFROM:+0000
TZOFFSETTO:+0100
TZNAME:BST
DTSTART:20240331T010000
END:DAYLIGHT
BEGIN:STANDARD
TZOFFSETFROM:+0100
TZOFFSETTO:+0000
TZNAME:GMT
DTSTART:20241027T010000
END:STANDARD
BEGIN:DAYLIGHT
TZOFFSETFROM:+0000
TZOFFSETTO:+0100
TZNAME:BST
DTSTART:20250330T010000
END:DAYLIGHT
BEGIN:STANDARD
TZOFFSETFROM:+0100
TZOFFSETTO:+0000
TZNAME:GMT
DTSTART:20251026T010000
END:STANDARD
BEGIN:DAYLIGHT
TZOFFSETFROM:+0000
TZOFFSETTO:+0100
TZNAME:BST
DTSTART:20260329T010000
END:DAYLIGHT
BEGIN:STANDARD
TZOFFSETFROM:+0100
TZOFFSETTO:+0000
TZNAME:GMT
DTSTART:20261025T010000
END:STANDARD
END:VTIMEZONE
BEGIN:VEVENT
DTSTART;TZID=Europe/London:20250815T193000
DTEND;TZID=Europe/London:20250815T214500
DTSTAMP:20260424T230840
CREATED:20250527T071028Z
LAST-MODIFIED:20250815T071000Z
UID:124679-1755286200-1755294300@keepcolchestercool.co.uk
SUMMARY:Colchester Comedy Club
DESCRIPTION:!!Comedy Extravaganza!!Four Brilliant TV Comedians as seen on TV! One Unforgettable Night! Experience the ultimate blend of humor with not just one\, but four incredible TV comedians all sharing the same stage! Each brings their unique flair\, ensuring there’s a laugh for everyone. Don’t miss this spectacular variety comedy show—it’s the spice of laughter!
URL:https://keepcolchestercool.co.uk/event/colchester-comedy-club/
LOCATION:Mercury Theatre Colchester\, Mercury Theatre Colchester
ORGANIZER;CN="The Comedy Club":MAILTO:noreply@facebookmail.com
END:VEVENT
END:VCALENDAR