BEGIN:VCALENDAR
VERSION:2.0
PRODID:-//Keep Colchester Cool - ECPv6.15.20//NONSGML v1.0//EN
CALSCALE:GREGORIAN
METHOD:PUBLISH
X-WR-CALNAME:Keep Colchester Cool
X-ORIGINAL-URL:https://keepcolchestercool.co.uk
X-WR-CALDESC:Events for Keep Colchester Cool
REFRESH-INTERVAL;VALUE=DURATION:PT1H
X-Robots-Tag:noindex
X-PUBLISHED-TTL:PT1H
BEGIN:VTIMEZONE
TZID:Europe/London
BEGIN:DAYLIGHT
TZOFFSETFROM:+0000
TZOFFSETTO:+0100
TZNAME:BST
DTSTART:20240331T010000
END:DAYLIGHT
BEGIN:STANDARD
TZOFFSETFROM:+0100
TZOFFSETTO:+0000
TZNAME:GMT
DTSTART:20241027T010000
END:STANDARD
BEGIN:DAYLIGHT
TZOFFSETFROM:+0000
TZOFFSETTO:+0100
TZNAME:BST
DTSTART:20250330T010000
END:DAYLIGHT
BEGIN:STANDARD
TZOFFSETFROM:+0100
TZOFFSETTO:+0000
TZNAME:GMT
DTSTART:20251026T010000
END:STANDARD
BEGIN:DAYLIGHT
TZOFFSETFROM:+0000
TZOFFSETTO:+0100
TZNAME:BST
DTSTART:20260329T010000
END:DAYLIGHT
BEGIN:STANDARD
TZOFFSETFROM:+0100
TZOFFSETTO:+0000
TZNAME:GMT
DTSTART:20261025T010000
END:STANDARD
END:VTIMEZONE
BEGIN:VEVENT
DTSTART;TZID=Europe/London:20250531T150000
DTEND;TZID=Europe/London:20250531T200000
DTSTAMP:20260425T171648
CREATED:20250513T071009Z
LAST-MODIFIED:20250531T071000Z
UID:124222-1748703600-1748721600@keepcolchestercool.co.uk
SUMMARY:Colchester - Daytime Clubbing - The Over 30s Club
DESCRIPTION:The Over 30s Club at Silk Road – A Daytime Clubbing Experience Like No Other \nA monthly Saturday afternoon session for those who still love a proper dancefloor\, but not the 3AM regrets. \nStep into a new kind of clubbing experience\, where style meets nostalgia and the music takes centre stage. \nThe Over 30s Club is bringing its signature daytime party to the stunning surroundings of Silk Road — a premium venue designed for those who appreciate great music\, great atmosphere\, and good company. \nExpect a vibrant crowd\, uplifting energy and a soundtrack packed with iconic 80s\, 90s and 00s floorfillers\, all delivered by some of the UK’s leading retro DJs — many of whom regularly appear at Butlins Big Weekenders and have a loyal following across the country. \nThis is more than just a party — it’s a chance to relive the magic of your clubbing days\, surrounded by people who share your love of classic tunes\, great vibes and a quality social atmosphere — all without the late-night chaos. \n✨ Premium venue🎶 Timeless throwback anthems🕒 Daytime dancing\, 3PM–8PM💃 A stylish crowd and feel-good energy \nJoin us at Silk Road\, where the music is loud\, the atmosphere is electric\, and daytime becomes the new prime time.
URL:https://keepcolchestercool.co.uk/event/colchester-daytime-clubbing-the-over-30s-club/
LOCATION:Silk Road\, Silk Road
ORGANIZER;CN="The Over 30s Club":MAILTO:noreply@facebookmail.com
END:VEVENT
END:VCALENDAR