BEGIN:VCALENDAR
VERSION:2.0
PRODID:-//Keep Colchester Cool - ECPv6.15.20//NONSGML v1.0//EN
CALSCALE:GREGORIAN
METHOD:PUBLISH
X-WR-CALNAME:Keep Colchester Cool
X-ORIGINAL-URL:https://keepcolchestercool.co.uk
X-WR-CALDESC:Events for Keep Colchester Cool
REFRESH-INTERVAL;VALUE=DURATION:PT1H
X-Robots-Tag:noindex
X-PUBLISHED-TTL:PT1H
BEGIN:VTIMEZONE
TZID:Europe/London
BEGIN:DAYLIGHT
TZOFFSETFROM:+0000
TZOFFSETTO:+0100
TZNAME:BST
DTSTART:20240331T010000
END:DAYLIGHT
BEGIN:STANDARD
TZOFFSETFROM:+0100
TZOFFSETTO:+0000
TZNAME:GMT
DTSTART:20241027T010000
END:STANDARD
BEGIN:DAYLIGHT
TZOFFSETFROM:+0000
TZOFFSETTO:+0100
TZNAME:BST
DTSTART:20250330T010000
END:DAYLIGHT
BEGIN:STANDARD
TZOFFSETFROM:+0100
TZOFFSETTO:+0000
TZNAME:GMT
DTSTART:20251026T010000
END:STANDARD
BEGIN:DAYLIGHT
TZOFFSETFROM:+0000
TZOFFSETTO:+0100
TZNAME:BST
DTSTART:20260329T010000
END:DAYLIGHT
BEGIN:STANDARD
TZOFFSETFROM:+0100
TZOFFSETTO:+0000
TZNAME:GMT
DTSTART:20261025T010000
END:STANDARD
END:VTIMEZONE
BEGIN:VEVENT
DTSTART;TZID=Europe/London:20251114T190000
DTEND;TZID=Europe/London:20251114T210000
DTSTAMP:20260424T150733
CREATED:20251025T071031Z
LAST-MODIFIED:20251114T071023Z
UID:126758-1763146800-1763154000@keepcolchestercool.co.uk
SUMMARY:Colchester sip and paint
DESCRIPTION:🎨✨ COLCHESTER — we’re coming for you! ✨🎨 \nJoin us for our FIRST EVER Sip & Paint event in town — and it’s going to be a good one! 🍷💖 \nGet creative with a night of glass painting\, giggles\, and good vibes at The Fat Cat\, Colchester on 14.11.25 (7–9PM).Your ticket includes:🍓 A welcome drink🎨 All painting materials🕯️ The perfect relaxing\, crafty evening \nRound up your friends\, sip something lovely\, and take home your own beautiful hand-painted glass! 💅 \nSpaces are super limited for this debut event — book now before they’re gone! 💃 \n📍 The Fat Cat\, 65 Butt Rd\, Colchester🎟️ https://bookwhen.com/sip-and-paint \n#SipAndPaint #ColchesterEvents #TheCraftHub #GlassPainting #CreativeNightsOut #ColchesterThingsToDo #GirlsNightOut #CraftWorkshop
URL:https://keepcolchestercool.co.uk/event/colchester-sip-and-paint/
LOCATION:Fat Cat Colchester\, 65 Butt Road\, Colchester\, CO3 3BZ\, GB
ORGANIZER;CN="The Craft Hub":MAILTO:noreply@facebookmail.com
END:VEVENT
END:VCALENDAR