BEGIN:VCALENDAR
VERSION:2.0
PRODID:-//Keep Colchester Cool - ECPv6.15.20//NONSGML v1.0//EN
CALSCALE:GREGORIAN
METHOD:PUBLISH
X-WR-CALNAME:Keep Colchester Cool
X-ORIGINAL-URL:https://keepcolchestercool.co.uk
X-WR-CALDESC:Events for Keep Colchester Cool
REFRESH-INTERVAL;VALUE=DURATION:PT1H
X-Robots-Tag:noindex
X-PUBLISHED-TTL:PT1H
BEGIN:VTIMEZONE
TZID:Europe/London
BEGIN:DAYLIGHT
TZOFFSETFROM:+0000
TZOFFSETTO:+0100
TZNAME:BST
DTSTART:20240331T010000
END:DAYLIGHT
BEGIN:STANDARD
TZOFFSETFROM:+0100
TZOFFSETTO:+0000
TZNAME:GMT
DTSTART:20241027T010000
END:STANDARD
BEGIN:DAYLIGHT
TZOFFSETFROM:+0000
TZOFFSETTO:+0100
TZNAME:BST
DTSTART:20250330T010000
END:DAYLIGHT
BEGIN:STANDARD
TZOFFSETFROM:+0100
TZOFFSETTO:+0000
TZNAME:GMT
DTSTART:20251026T010000
END:STANDARD
BEGIN:DAYLIGHT
TZOFFSETFROM:+0000
TZOFFSETTO:+0100
TZNAME:BST
DTSTART:20260329T010000
END:DAYLIGHT
BEGIN:STANDARD
TZOFFSETFROM:+0100
TZOFFSETTO:+0000
TZNAME:GMT
DTSTART:20261025T010000
END:STANDARD
END:VTIMEZONE
BEGIN:VEVENT
DTSTART;TZID=Europe/London:20251130T100000
DTEND;TZID=Europe/London:20251130T160000
DTSTAMP:20260424T174456
CREATED:20251008T071053Z
LAST-MODIFIED:20251130T071054Z
UID:126427-1764496800-1764518400@keepcolchestercool.co.uk
SUMMARY:Colchester United Christmas Fair
DESCRIPTION:Celebrate the festive season with us at our Christmas Fair- bringing together holiday traditions and festive fun. Perfect for all ages! \nThe fair will be open from 10am and will close at 4pm. It is being held indoors\, so you can shop comfortably regardless of the weather. \nExplore an array of stalls showcasing beautifully handcrafted gifts\, elegant holiday decorations and delicious seasonal treats. Whether you’re looking for a unique gift or want to soak in the festive atmosphere\, our fair offers a delightful experience for all.  \nParking is free when attending – just make sure to enter your car registration in the tablets at reception. \nTickets are available on https://boxoffice.colchesterunited.net/Tickets/ or you can pay on the door. \nIf you are interested in exhibiting please email events@colchesterunited.net.
URL:https://keepcolchestercool.co.uk/event/colchester-united-christmas-fair/
LOCATION:JobServe Community Stadium\, United Way\, CO4 5UP Colchester\, United Kingdom\, JobServe Community Stadium\, United Way\, CO4 5UP Colchester\, United Kingdom
ORGANIZER;CN="Events at Colchester United FC":MAILTO:noreply@facebookmail_com
END:VEVENT
END:VCALENDAR