BEGIN:VCALENDAR
VERSION:2.0
PRODID:-//Keep Colchester Cool - ECPv6.15.20//NONSGML v1.0//EN
CALSCALE:GREGORIAN
METHOD:PUBLISH
X-WR-CALNAME:Keep Colchester Cool
X-ORIGINAL-URL:https://keepcolchestercool.co.uk
X-WR-CALDESC:Events for Keep Colchester Cool
REFRESH-INTERVAL;VALUE=DURATION:PT1H
X-Robots-Tag:noindex
X-PUBLISHED-TTL:PT1H
BEGIN:VTIMEZONE
TZID:Europe/London
BEGIN:DAYLIGHT
TZOFFSETFROM:+0000
TZOFFSETTO:+0100
TZNAME:BST
DTSTART:20240331T010000
END:DAYLIGHT
BEGIN:STANDARD
TZOFFSETFROM:+0100
TZOFFSETTO:+0000
TZNAME:GMT
DTSTART:20241027T010000
END:STANDARD
BEGIN:DAYLIGHT
TZOFFSETFROM:+0000
TZOFFSETTO:+0100
TZNAME:BST
DTSTART:20250330T010000
END:DAYLIGHT
BEGIN:STANDARD
TZOFFSETFROM:+0100
TZOFFSETTO:+0000
TZNAME:GMT
DTSTART:20251026T010000
END:STANDARD
BEGIN:DAYLIGHT
TZOFFSETFROM:+0000
TZOFFSETTO:+0100
TZNAME:BST
DTSTART:20260329T010000
END:DAYLIGHT
BEGIN:STANDARD
TZOFFSETFROM:+0100
TZOFFSETTO:+0000
TZNAME:GMT
DTSTART:20261025T010000
END:STANDARD
END:VTIMEZONE
BEGIN:VEVENT
DTSTART;TZID=Europe/London:20250809T130000
DTEND;TZID=Europe/London:20250809T210000
DTSTAMP:20260424T212615
CREATED:20250624T071016Z
LAST-MODIFIED:20250809T071009Z
UID:125091-1754744400-1754773200@keepcolchestercool.co.uk
SUMMARY:Colchester's Jamaican Independence Day Celebration
DESCRIPTION:Come and celebrate the 62nd anniversary of Jamaican Independence Day\, hosted by S&S Caribbean Cafe at the Minories.What to expectMusic by a London DJJamaican Food served from 2pmCakesChildren’s activities including a bouncy castle
URL:https://keepcolchestercool.co.uk/event/colchesters-jamaican-independence-day-celebration/
LOCATION:74 High Street\, CO1 1UE Colchester\, United Kingdom\, 74 High Street\, CO1 1UE Colchester\, United Kingdom
ORGANIZER;CN="The Minories":MAILTO:noreply@facebookmail.com
END:VEVENT
END:VCALENDAR