BEGIN:VCALENDAR
VERSION:2.0
PRODID:-//Keep Colchester Cool - ECPv6.15.20//NONSGML v1.0//EN
CALSCALE:GREGORIAN
METHOD:PUBLISH
X-WR-CALNAME:Keep Colchester Cool
X-ORIGINAL-URL:https://keepcolchestercool.co.uk
X-WR-CALDESC:Events for Keep Colchester Cool
REFRESH-INTERVAL;VALUE=DURATION:PT1H
X-Robots-Tag:noindex
X-PUBLISHED-TTL:PT1H
BEGIN:VTIMEZONE
TZID:Europe/London
BEGIN:DAYLIGHT
TZOFFSETFROM:+0000
TZOFFSETTO:+0100
TZNAME:BST
DTSTART:20240331T010000
END:DAYLIGHT
BEGIN:STANDARD
TZOFFSETFROM:+0100
TZOFFSETTO:+0000
TZNAME:GMT
DTSTART:20241027T010000
END:STANDARD
BEGIN:DAYLIGHT
TZOFFSETFROM:+0000
TZOFFSETTO:+0100
TZNAME:BST
DTSTART:20250330T010000
END:DAYLIGHT
BEGIN:STANDARD
TZOFFSETFROM:+0100
TZOFFSETTO:+0000
TZNAME:GMT
DTSTART:20251026T010000
END:STANDARD
BEGIN:DAYLIGHT
TZOFFSETFROM:+0000
TZOFFSETTO:+0100
TZNAME:BST
DTSTART:20260329T010000
END:DAYLIGHT
BEGIN:STANDARD
TZOFFSETFROM:+0100
TZOFFSETTO:+0000
TZNAME:GMT
DTSTART:20261025T010000
END:STANDARD
END:VTIMEZONE
BEGIN:VEVENT
DTSTART;TZID=Europe/London:20251219T193000
DTEND;TZID=Europe/London:20251219T223000
DTSTAMP:20260424T132042
CREATED:20251125T071021Z
LAST-MODIFIED:20251219T071010Z
UID:127304-1766172600-1766183400@keepcolchestercool.co.uk
SUMMARY:Colne Endeavour Band Christmas Carols
DESCRIPTION:It’s that time of the year again when we bring out the mince pies and you all sing your hearts out!! \nThe fantastic Colne Endeavour Band are returning to play some classic Christmas Carols!!Lead by the fantastic conductor Robert\, you’ll be expected to take part and raise a bit of cash for this great cause.
URL:https://keepcolchestercool.co.uk/event/colne-endeavour-band-christmas-carols/
LOCATION:10 North Station Rd\, Colchester
ORGANIZER;CN="Victoria Inn Colchester":MAILTO:noreply@facebookmail_com
END:VEVENT
END:VCALENDAR