BEGIN:VCALENDAR
VERSION:2.0
PRODID:-//Keep Colchester Cool - ECPv6.15.20//NONSGML v1.0//EN
CALSCALE:GREGORIAN
METHOD:PUBLISH
X-WR-CALNAME:Keep Colchester Cool
X-ORIGINAL-URL:https://keepcolchestercool.co.uk
X-WR-CALDESC:Events for Keep Colchester Cool
REFRESH-INTERVAL;VALUE=DURATION:PT1H
X-Robots-Tag:noindex
X-PUBLISHED-TTL:PT1H
BEGIN:VTIMEZONE
TZID:Europe/London
BEGIN:DAYLIGHT
TZOFFSETFROM:+0000
TZOFFSETTO:+0100
TZNAME:BST
DTSTART:20240331T010000
END:DAYLIGHT
BEGIN:STANDARD
TZOFFSETFROM:+0100
TZOFFSETTO:+0000
TZNAME:GMT
DTSTART:20241027T010000
END:STANDARD
BEGIN:DAYLIGHT
TZOFFSETFROM:+0000
TZOFFSETTO:+0100
TZNAME:BST
DTSTART:20250330T010000
END:DAYLIGHT
BEGIN:STANDARD
TZOFFSETFROM:+0100
TZOFFSETTO:+0000
TZNAME:GMT
DTSTART:20251026T010000
END:STANDARD
BEGIN:DAYLIGHT
TZOFFSETFROM:+0000
TZOFFSETTO:+0100
TZNAME:BST
DTSTART:20260329T010000
END:DAYLIGHT
BEGIN:STANDARD
TZOFFSETFROM:+0100
TZOFFSETTO:+0000
TZNAME:GMT
DTSTART:20261025T010000
END:STANDARD
END:VTIMEZONE
BEGIN:VEVENT
DTSTART;TZID=Europe/London:20251101T190000
DTEND;TZID=Europe/London:20251101T220000
DTSTAMP:20260423T113844
CREATED:20251007T071235Z
LAST-MODIFIED:20251101T070959Z
UID:126232-1762023600-1762034400@keepcolchestercool.co.uk
SUMMARY:Comedy Hypnosis Show - Colchester Fringe
DESCRIPTION:Jason Simmons Comedy Hypnosis: interactive\, high-energy entertainment where you take centre stage!Fast-paced\, family-friendly\, and kind to volunteers—no one is ever made to look silly. \n“Fantastic act! … I have never experienced anything like it! Lovely guy\, very professional … extremely entertaining!” — Amelia Howard \n“The whole audience was captured! … totally in awe of how clever it is ✨” — Katy Martha \nWith sold‑out festival runs across the UK including Brighton\, Faversham and Wanstead Fringes\, Jason combines hypnotism\, stand-up comedy\, mind‑reading and musical magic—featuring his handcrafted double‑necked guitar—for an unforgettable evening of laughter and wow moments \nAll volunteers are treated with the utmost respect\, and 87% report feeling calm\, confident\, and happy afterwards \nDon’t just watch—take part. You’ll laugh\, gasp\, and maybe discover a new side of yourself.
URL:https://keepcolchestercool.co.uk/event/comedy-hypnosis-show-colchester-fringe/
LOCATION:60 High Street\, CO1 1DN Colchester\, United Kingdom\, 60 High Street\, CO1 1DN Colchester\, United Kingdom
ORGANIZER;CN="Three Wise Monkeys Colchester":MAILTO:noreply@facebookmail_com
END:VEVENT
END:VCALENDAR