BEGIN:VCALENDAR
VERSION:2.0
PRODID:-//Keep Colchester Cool - ECPv6.15.20//NONSGML v1.0//EN
CALSCALE:GREGORIAN
METHOD:PUBLISH
X-WR-CALNAME:Keep Colchester Cool
X-ORIGINAL-URL:https://keepcolchestercool.co.uk
X-WR-CALDESC:Events for Keep Colchester Cool
REFRESH-INTERVAL;VALUE=DURATION:PT1H
X-Robots-Tag:noindex
X-PUBLISHED-TTL:PT1H
BEGIN:VTIMEZONE
TZID:Europe/London
BEGIN:DAYLIGHT
TZOFFSETFROM:+0000
TZOFFSETTO:+0100
TZNAME:BST
DTSTART:20250330T010000
END:DAYLIGHT
BEGIN:STANDARD
TZOFFSETFROM:+0100
TZOFFSETTO:+0000
TZNAME:GMT
DTSTART:20251026T010000
END:STANDARD
BEGIN:DAYLIGHT
TZOFFSETFROM:+0000
TZOFFSETTO:+0100
TZNAME:BST
DTSTART:20260329T010000
END:DAYLIGHT
BEGIN:STANDARD
TZOFFSETFROM:+0100
TZOFFSETTO:+0000
TZNAME:GMT
DTSTART:20261025T010000
END:STANDARD
BEGIN:DAYLIGHT
TZOFFSETFROM:+0000
TZOFFSETTO:+0100
TZNAME:BST
DTSTART:20270328T010000
END:DAYLIGHT
BEGIN:STANDARD
TZOFFSETFROM:+0100
TZOFFSETTO:+0000
TZNAME:GMT
DTSTART:20271031T010000
END:STANDARD
END:VTIMEZONE
BEGIN:VEVENT
DTSTART;TZID=Europe/London:20261010T160000
DTEND;TZID=Europe/London:20261011T010000
DTSTAMP:20260424T165527
CREATED:20260224T071250Z
LAST-MODIFIED:20260226T071237Z
UID:129273-1791648000-1791680400@keepcolchestercool.co.uk
SUMMARY:COMMOTION FEST 2026
DESCRIPTION:COLCHESTER\, IT’S TIME FOR YOUR THIRD CHANCE TO CAUSE A COMMOTION!!! \nCOMMOTION FEST is back for round 3 in 2026 featuring some of the best Essex rock and metal bands and rounded off by some special guest out of town bands! \nThe bands causing a commotion in 2026 are: \nTBC \nDoors will open at 4pm and bands will play until 11pm with an official Three Wise Monkeys DJ afterparty taking you right through to 1am! \nOVER 100 PEOPLE came to cause a COMMOTION in both 2024 and 2025\, so get your tickets NOW to not miss out!
URL:https://keepcolchestercool.co.uk/event/commotion-fest-2026/
LOCATION:Three Wise Monkeys Colchester
ATTACH;FMTTYPE=image/jpeg:https://keepcolchestercool.co.uk/wp-content/uploads/129273_image_618102310_833277466341006_3477378014573931305_n.jpg
END:VEVENT
END:VCALENDAR