BEGIN:VCALENDAR
VERSION:2.0
PRODID:-//Keep Colchester Cool - ECPv6.15.20//NONSGML v1.0//EN
CALSCALE:GREGORIAN
METHOD:PUBLISH
X-WR-CALNAME:Keep Colchester Cool
X-ORIGINAL-URL:https://keepcolchestercool.co.uk
X-WR-CALDESC:Events for Keep Colchester Cool
REFRESH-INTERVAL;VALUE=DURATION:PT1H
X-Robots-Tag:noindex
X-PUBLISHED-TTL:PT1H
BEGIN:VTIMEZONE
TZID:Europe/London
BEGIN:DAYLIGHT
TZOFFSETFROM:+0000
TZOFFSETTO:+0100
TZNAME:BST
DTSTART:20250330T010000
END:DAYLIGHT
BEGIN:STANDARD
TZOFFSETFROM:+0100
TZOFFSETTO:+0000
TZNAME:GMT
DTSTART:20251026T010000
END:STANDARD
BEGIN:DAYLIGHT
TZOFFSETFROM:+0000
TZOFFSETTO:+0100
TZNAME:BST
DTSTART:20260329T010000
END:DAYLIGHT
BEGIN:STANDARD
TZOFFSETFROM:+0100
TZOFFSETTO:+0000
TZNAME:GMT
DTSTART:20261025T010000
END:STANDARD
BEGIN:DAYLIGHT
TZOFFSETFROM:+0000
TZOFFSETTO:+0100
TZNAME:BST
DTSTART:20270328T010000
END:DAYLIGHT
BEGIN:STANDARD
TZOFFSETFROM:+0100
TZOFFSETTO:+0000
TZNAME:GMT
DTSTART:20271031T010000
END:STANDARD
END:VTIMEZONE
BEGIN:VEVENT
DTSTART;TZID=Europe/London:20260109T193000
DTEND;TZID=Europe/London:20260109T221500
DTSTAMP:20260424T093224
CREATED:20260105T071010Z
LAST-MODIFIED:20260109T071037Z
UID:127580-1767987000-1767996900@keepcolchestercool.co.uk
SUMMARY:CRFC Presents a charity quiz for Pilgrams Hospice and Coppafeel  Big Jim's Pub Quiz
DESCRIPTION:Doors Open at 7pm Quiz starts at 8pm \nColchester Rugby Club in partnership with Big Jims Pub Quiz presents The Real 60 General knowledge quiz. The 2nd Friday of every Month.  \n“Get your phone’s or tablets charged and ready”  \nCRC presents a new way to quiz in a new Rugby Club in the heart of the new sports park in Colchester. Basket Meals avaiable on the night  \nBig Jim’s interactive quiz ditches the pens and papers and all your answers are put on your phone or any WiFi device.  \n60 general knowledge questions and the bonus game called the Quizzy 8. \nSo let’s get Quizzical without the need to scrum down all quizzes include both audio and picture questions.  \nFun for all the family PG13 quiz fun. £7 per person  \ndoors open at 7 quiz starts at 8.  \nquizzy quiz lovers
URL:https://keepcolchestercool.co.uk/event/crfc-presents-a-charity-quiz-for-pilgrams-hospice-and-coppafeel-big-jims-pub-quiz/
LOCATION:Colchester Rugby Club\, Cuckoo Farm Way\, Colchester\, CO4 5YX\, GB
ORGANIZER;CN="Big Jims Pub Quiz":MAILTO:noreply@facebookmail_com
END:VEVENT
END:VCALENDAR