BEGIN:VCALENDAR
VERSION:2.0
PRODID:-//Keep Colchester Cool - ECPv6.15.20//NONSGML v1.0//EN
CALSCALE:GREGORIAN
METHOD:PUBLISH
X-WR-CALNAME:Keep Colchester Cool
X-ORIGINAL-URL:https://keepcolchestercool.co.uk
X-WR-CALDESC:Events for Keep Colchester Cool
REFRESH-INTERVAL;VALUE=DURATION:PT1H
X-Robots-Tag:noindex
X-PUBLISHED-TTL:PT1H
BEGIN:VTIMEZONE
TZID:Europe/London
BEGIN:DAYLIGHT
TZOFFSETFROM:+0000
TZOFFSETTO:+0100
TZNAME:BST
DTSTART:20240331T010000
END:DAYLIGHT
BEGIN:STANDARD
TZOFFSETFROM:+0100
TZOFFSETTO:+0000
TZNAME:GMT
DTSTART:20241027T010000
END:STANDARD
BEGIN:DAYLIGHT
TZOFFSETFROM:+0000
TZOFFSETTO:+0100
TZNAME:BST
DTSTART:20250330T010000
END:DAYLIGHT
BEGIN:STANDARD
TZOFFSETFROM:+0100
TZOFFSETTO:+0000
TZNAME:GMT
DTSTART:20251026T010000
END:STANDARD
BEGIN:DAYLIGHT
TZOFFSETFROM:+0000
TZOFFSETTO:+0100
TZNAME:BST
DTSTART:20260329T010000
END:DAYLIGHT
BEGIN:STANDARD
TZOFFSETFROM:+0100
TZOFFSETTO:+0000
TZNAME:GMT
DTSTART:20261025T010000
END:STANDARD
END:VTIMEZONE
BEGIN:VEVENT
DTSTART;TZID=Europe/London:20250817T173000
DTEND;TZID=Europe/London:20250817T203000
DTSTAMP:20260424T210424
CREATED:20250729T071057Z
LAST-MODIFIED:20250817T071014Z
UID:125520-1755451800-1755462600@keepcolchestercool.co.uk
SUMMARY:David Woodcock
DESCRIPTION:🎶 **Live Music Alert!** 🎶 \nJoin us at the Victoria Inn on Sunday\, 17th August from 5:30 PM for an unforgettable evening with David Woodcock — singer-songwriter\, pianist\, and all-round showman.  \nExpect a vibrant mix of indie-pop brilliance\, witty lyrics\, and infectious energy. Whether you’re a longtime fan or new to his sound\, this is one performance you won’t want to miss. \nFree entry\, donations welcome!! – great music\, great vibes\, and your Sunday well spent.
URL:https://keepcolchestercool.co.uk/event/david-woodcock/
LOCATION:10 North Station Rd \, CO1 1RB Colchester\, United Kingdom\, 10 North Station Rd \, CO1 1RB Colchester\, United Kingdom
ORGANIZER;CN="Victoria Inn Colchester":MAILTO:noreply@facebookmail_com
END:VEVENT
END:VCALENDAR