BEGIN:VCALENDAR
VERSION:2.0
PRODID:-//Keep Colchester Cool - ECPv6.15.20//NONSGML v1.0//EN
CALSCALE:GREGORIAN
METHOD:PUBLISH
X-WR-CALNAME:Keep Colchester Cool
X-ORIGINAL-URL:https://keepcolchestercool.co.uk
X-WR-CALDESC:Events for Keep Colchester Cool
REFRESH-INTERVAL;VALUE=DURATION:PT1H
X-Robots-Tag:noindex
X-PUBLISHED-TTL:PT1H
BEGIN:VTIMEZONE
TZID:Europe/London
BEGIN:DAYLIGHT
TZOFFSETFROM:+0000
TZOFFSETTO:+0100
TZNAME:BST
DTSTART:20240331T010000
END:DAYLIGHT
BEGIN:STANDARD
TZOFFSETFROM:+0100
TZOFFSETTO:+0000
TZNAME:GMT
DTSTART:20241027T010000
END:STANDARD
BEGIN:DAYLIGHT
TZOFFSETFROM:+0000
TZOFFSETTO:+0100
TZNAME:BST
DTSTART:20250330T010000
END:DAYLIGHT
BEGIN:STANDARD
TZOFFSETFROM:+0100
TZOFFSETTO:+0000
TZNAME:GMT
DTSTART:20251026T010000
END:STANDARD
BEGIN:DAYLIGHT
TZOFFSETFROM:+0000
TZOFFSETTO:+0100
TZNAME:BST
DTSTART:20260329T010000
END:DAYLIGHT
BEGIN:STANDARD
TZOFFSETFROM:+0100
TZOFFSETTO:+0000
TZNAME:GMT
DTSTART:20261025T010000
END:STANDARD
END:VTIMEZONE
BEGIN:VEVENT
DTSTART;TZID=Europe/London:20250531T200000
DTEND;TZID=Europe/London:20250531T230000
DTSTAMP:20260425T005907
CREATED:20241208T071102Z
LAST-MODIFIED:20250417T071049Z
UID:120992-1748721600-1748732400@keepcolchestercool.co.uk
SUMMARY:Diaspora live in Colchester Sat 31st May
DESCRIPTION:Join Diaspora for a night of Irish folk rock music. Playing a mixture of originals culled from their five albums as well as premiering tunes from their new “Family Matters” album\, there’ll also be a fair few traditional tunes to sing along with\, all played in Diaspora’s inimitable folk rock style. \nDiaspora is led by Lee Regan\, raised in Birmingham by his Irish grandfather and now back home in Ballaghaderreen in the west of Ireland\, alongside his wife Liz\, who plays keyboards.If you feel any kind of connection with the emerald isle\, this is the show for you!A night not to be missed!
URL:https://keepcolchestercool.co.uk/event/diaspora-live-in-colchester/
LOCATION:Headgate Theatre\, Headgate Theatre
ORGANIZER;CN="Diaspora Music":MAILTO:noreply@facebookmail.com
END:VEVENT
END:VCALENDAR