BEGIN:VCALENDAR
VERSION:2.0
PRODID:-//Keep Colchester Cool - ECPv6.15.20//NONSGML v1.0//EN
CALSCALE:GREGORIAN
METHOD:PUBLISH
X-WR-CALNAME:Keep Colchester Cool
X-ORIGINAL-URL:https://keepcolchestercool.co.uk
X-WR-CALDESC:Events for Keep Colchester Cool
REFRESH-INTERVAL;VALUE=DURATION:PT1H
X-Robots-Tag:noindex
X-PUBLISHED-TTL:PT1H
BEGIN:VTIMEZONE
TZID:Europe/London
BEGIN:DAYLIGHT
TZOFFSETFROM:+0000
TZOFFSETTO:+0100
TZNAME:BST
DTSTART:20240331T010000
END:DAYLIGHT
BEGIN:STANDARD
TZOFFSETFROM:+0100
TZOFFSETTO:+0000
TZNAME:GMT
DTSTART:20241027T010000
END:STANDARD
BEGIN:DAYLIGHT
TZOFFSETFROM:+0000
TZOFFSETTO:+0100
TZNAME:BST
DTSTART:20250330T010000
END:DAYLIGHT
BEGIN:STANDARD
TZOFFSETFROM:+0100
TZOFFSETTO:+0000
TZNAME:GMT
DTSTART:20251026T010000
END:STANDARD
BEGIN:DAYLIGHT
TZOFFSETFROM:+0000
TZOFFSETTO:+0100
TZNAME:BST
DTSTART:20260329T010000
END:DAYLIGHT
BEGIN:STANDARD
TZOFFSETFROM:+0100
TZOFFSETTO:+0000
TZNAME:GMT
DTSTART:20261025T010000
END:STANDARD
END:VTIMEZONE
BEGIN:VEVENT
DTSTART;TZID=Europe/London:20251121T190000
DTEND;TZID=Europe/London:20251121T220000
DTSTAMP:20260424T170709
CREATED:20251118T071010Z
LAST-MODIFIED:20251121T071018Z
UID:127241-1763751600-1763762400@keepcolchestercool.co.uk
SUMMARY:DJPressplay’s - Back To The 80s
DESCRIPTION:Get ready to rewind time and hit the dance floor as DJ PressPlay takes you on a sonic journey back to the electrifying 1980s!  \nJoin us for a night packed with neon lights\, retro vibes\, and all the synth-driven anthems that defined a generation. From Madonna to Michael\, Prince to The Police\, DJ PressPlay will be spinning the ultimate mix of pop\, funk\, new wave\, and rock classics that will keep you moving all night long.  \nGet ready to press play on pure 80s nostalgia \n7-2am \nGlow sticks and themed cocktails available. \nFree entry all night long
URL:https://keepcolchestercool.co.uk/event/djpressplays-back-to-the-80s/
LOCATION:63 High street\, Colchester\, 63 High street\, Colchester
ORGANIZER;CN="Coda Colchester":MAILTO:noreply@facebookmail_com
END:VEVENT
END:VCALENDAR