BEGIN:VCALENDAR
VERSION:2.0
PRODID:-//Keep Colchester Cool - ECPv6.15.20//NONSGML v1.0//EN
CALSCALE:GREGORIAN
METHOD:PUBLISH
X-WR-CALNAME:Keep Colchester Cool
X-ORIGINAL-URL:https://keepcolchestercool.co.uk
X-WR-CALDESC:Events for Keep Colchester Cool
REFRESH-INTERVAL;VALUE=DURATION:PT1H
X-Robots-Tag:noindex
X-PUBLISHED-TTL:PT1H
BEGIN:VTIMEZONE
TZID:Europe/London
BEGIN:DAYLIGHT
TZOFFSETFROM:+0000
TZOFFSETTO:+0100
TZNAME:BST
DTSTART:20240331T010000
END:DAYLIGHT
BEGIN:STANDARD
TZOFFSETFROM:+0100
TZOFFSETTO:+0000
TZNAME:GMT
DTSTART:20241027T010000
END:STANDARD
BEGIN:DAYLIGHT
TZOFFSETFROM:+0000
TZOFFSETTO:+0100
TZNAME:BST
DTSTART:20250330T010000
END:DAYLIGHT
BEGIN:STANDARD
TZOFFSETFROM:+0100
TZOFFSETTO:+0000
TZNAME:GMT
DTSTART:20251026T010000
END:STANDARD
BEGIN:DAYLIGHT
TZOFFSETFROM:+0000
TZOFFSETTO:+0100
TZNAME:BST
DTSTART:20260329T010000
END:DAYLIGHT
BEGIN:STANDARD
TZOFFSETFROM:+0100
TZOFFSETTO:+0000
TZNAME:GMT
DTSTART:20261025T010000
END:STANDARD
END:VTIMEZONE
BEGIN:VEVENT
DTSTART;TZID=Europe/London:20250914T170000
DTEND;TZID=Europe/London:20250914T200000
DTSTAMP:20260424T231325
CREATED:20250729T071106Z
LAST-MODIFIED:20250914T071011Z
UID:125546-1757869200-1757880000@keepcolchestercool.co.uk
SUMMARY:Dog 'Ole Acoustic at The Victoria Inn\, Colchester
DESCRIPTION:Punk/folk collective who refuse to be put into a musical category and insist that they are #justaband. Loud\, bold and full of mischief\, Dog ‘Ole have a mix of raucous original songs plus a few covers and are guaranteed to bring the noise. \nOur first time playing the Victoria Inn as Dog ‘Ole…though you may recognise us from other acts that play there regularly! We’ll be doing this one as an acoustic show.
URL:https://keepcolchestercool.co.uk/event/dog-ole-acoustic-at-the-victoria-inn-colchester/
LOCATION:Victoria Inn Colchester\, 10 North Station Rd\, Colchester\, CO1 1RB\, GB
END:VEVENT
END:VCALENDAR