BEGIN:VCALENDAR
VERSION:2.0
PRODID:-//Keep Colchester Cool - ECPv6.15.20//NONSGML v1.0//EN
CALSCALE:GREGORIAN
METHOD:PUBLISH
X-WR-CALNAME:Keep Colchester Cool
X-ORIGINAL-URL:https://keepcolchestercool.co.uk
X-WR-CALDESC:Events for Keep Colchester Cool
REFRESH-INTERVAL;VALUE=DURATION:PT1H
X-Robots-Tag:noindex
X-PUBLISHED-TTL:PT1H
BEGIN:VTIMEZONE
TZID:Europe/London
BEGIN:DAYLIGHT
TZOFFSETFROM:+0000
TZOFFSETTO:+0100
TZNAME:BST
DTSTART:20240331T010000
END:DAYLIGHT
BEGIN:STANDARD
TZOFFSETFROM:+0100
TZOFFSETTO:+0000
TZNAME:GMT
DTSTART:20241027T010000
END:STANDARD
BEGIN:DAYLIGHT
TZOFFSETFROM:+0000
TZOFFSETTO:+0100
TZNAME:BST
DTSTART:20250330T010000
END:DAYLIGHT
BEGIN:STANDARD
TZOFFSETFROM:+0100
TZOFFSETTO:+0000
TZNAME:GMT
DTSTART:20251026T010000
END:STANDARD
BEGIN:DAYLIGHT
TZOFFSETFROM:+0000
TZOFFSETTO:+0100
TZNAME:BST
DTSTART:20260329T010000
END:DAYLIGHT
BEGIN:STANDARD
TZOFFSETFROM:+0100
TZOFFSETTO:+0000
TZNAME:GMT
DTSTART:20261025T010000
END:STANDARD
END:VTIMEZONE
BEGIN:VEVENT
DTSTART;TZID=Europe/London:20250531T193000
DTEND;TZID=Europe/London:20250531T223000
DTSTAMP:20260425T114033
CREATED:20250521T071138Z
LAST-MODIFIED:20250531T071000Z
UID:124365-1748719800-1748730600@keepcolchestercool.co.uk
SUMMARY:Drag Bingo The Curve Bar
DESCRIPTION:Fabulous fundraiser  \nDrag Bingo & Raffle – Get ready for a night of glitter\, glamour and good times\, all for a good cause. \nCome help us raise the funds to get our dear friend Stu/Burb the treatment he needs. \nAll monies raised will go to his GoFundMe. \n£20 a ticket entry\, OVER 18s\, please DM for your ticket. \nBRING CASH for the donations on the night! \nLimited to 145 people. \nFirst come\, first served! \n#DoItForStu
URL:https://keepcolchestercool.co.uk/event/drag-bingo-the-curve-bar/
LOCATION:Curve Bar Colchester\, 77 East Hill\, Colchester\, CO12QW\, GB
END:VEVENT
END:VCALENDAR