BEGIN:VCALENDAR
VERSION:2.0
PRODID:-//Keep Colchester Cool - ECPv6.15.20//NONSGML v1.0//EN
CALSCALE:GREGORIAN
METHOD:PUBLISH
X-WR-CALNAME:Keep Colchester Cool
X-ORIGINAL-URL:https://keepcolchestercool.co.uk
X-WR-CALDESC:Events for Keep Colchester Cool
REFRESH-INTERVAL;VALUE=DURATION:PT1H
X-Robots-Tag:noindex
X-PUBLISHED-TTL:PT1H
BEGIN:VTIMEZONE
TZID:Europe/London
BEGIN:DAYLIGHT
TZOFFSETFROM:+0000
TZOFFSETTO:+0100
TZNAME:BST
DTSTART:20240331T010000
END:DAYLIGHT
BEGIN:STANDARD
TZOFFSETFROM:+0100
TZOFFSETTO:+0000
TZNAME:GMT
DTSTART:20241027T010000
END:STANDARD
BEGIN:DAYLIGHT
TZOFFSETFROM:+0000
TZOFFSETTO:+0100
TZNAME:BST
DTSTART:20250330T010000
END:DAYLIGHT
BEGIN:STANDARD
TZOFFSETFROM:+0100
TZOFFSETTO:+0000
TZNAME:GMT
DTSTART:20251026T010000
END:STANDARD
BEGIN:DAYLIGHT
TZOFFSETFROM:+0000
TZOFFSETTO:+0100
TZNAME:BST
DTSTART:20260329T010000
END:DAYLIGHT
BEGIN:STANDARD
TZOFFSETFROM:+0100
TZOFFSETTO:+0000
TZNAME:GMT
DTSTART:20261025T010000
END:STANDARD
END:VTIMEZONE
BEGIN:VEVENT
DTSTART;TZID=Europe/London:20250606T193000
DTEND;TZID=Europe/London:20250606T223000
DTSTAMP:20260426T004805
CREATED:20250321T071043Z
LAST-MODIFIED:20250606T071002Z
UID:123002-1749238200-1749249000@keepcolchestercool.co.uk
SUMMARY:...Earnest? | Colchester
DESCRIPTION:Say It Again\, Sorry? presents …Earnest?\, a one-of-a-kind\, different-every-night comedy sensation\, perfect for fans of The Play That Goes Wrong and Noises Off! \nWhen a traditional production of Oscar Wilde’s classic play gets underway\, everything seems to be going perfectly to plan… that is\, until the lead actor fails to arrive on cue and an actual audience member is chosen to star in the show. \nWhat follows is a madcap medley of impromptu games and spontaneous solutions as Simon Slough\, the desperate director\, does his best to keep this faithful production going with an unwitting amateur at the helm. But with stage whiskey being swapped\, off-the-cuff auditions being held\, and muffins being eaten (no matter what state they’re in)\, there’s just no telling what this version of Earnest is going to throw up. Especially when more audience members are drafted in to replace an ever-thinning cast… \nWith the script ripped up and rewritten\, can the show reach its fabulous finale\, just as Oscar Wilde intended? Well\, you’ll have to see for yourself\, because with a cast made up of members of the public\, this show is completely different\, completely chaotic\, and completely Wilde every single night. \nAnd who knows\, you might even become a star yourself in this totally unique comedy\, guaranteed to have you laughing whether you’re sitting in the audience… or performing onstage. \n★★★★★- Broadway Baby \n★★★★★- North West End \n★★★★★- The Skinny
URL:https://keepcolchestercool.co.uk/event/earnest-colchester-2/
LOCATION:Mercury Theatre Colchester\, Mercury Theatre Colchester
ORGANIZER;CN="Ticketmaster Events":MAILTO:noreply@facebookmail_com
END:VEVENT
END:VCALENDAR