BEGIN:VCALENDAR
VERSION:2.0
PRODID:-//Keep Colchester Cool - ECPv6.15.20//NONSGML v1.0//EN
CALSCALE:GREGORIAN
METHOD:PUBLISH
X-WR-CALNAME:Keep Colchester Cool
X-ORIGINAL-URL:https://keepcolchestercool.co.uk
X-WR-CALDESC:Events for Keep Colchester Cool
REFRESH-INTERVAL;VALUE=DURATION:PT1H
X-Robots-Tag:noindex
X-PUBLISHED-TTL:PT1H
BEGIN:VTIMEZONE
TZID:Europe/London
BEGIN:DAYLIGHT
TZOFFSETFROM:+0000
TZOFFSETTO:+0100
TZNAME:BST
DTSTART:20250330T010000
END:DAYLIGHT
BEGIN:STANDARD
TZOFFSETFROM:+0100
TZOFFSETTO:+0000
TZNAME:GMT
DTSTART:20251026T010000
END:STANDARD
BEGIN:DAYLIGHT
TZOFFSETFROM:+0000
TZOFFSETTO:+0100
TZNAME:BST
DTSTART:20260329T010000
END:DAYLIGHT
BEGIN:STANDARD
TZOFFSETFROM:+0100
TZOFFSETTO:+0000
TZNAME:GMT
DTSTART:20261025T010000
END:STANDARD
BEGIN:DAYLIGHT
TZOFFSETFROM:+0000
TZOFFSETTO:+0100
TZNAME:BST
DTSTART:20270328T010000
END:DAYLIGHT
BEGIN:STANDARD
TZOFFSETFROM:+0100
TZOFFSETTO:+0000
TZNAME:GMT
DTSTART:20271031T010000
END:STANDARD
END:VTIMEZONE
BEGIN:VEVENT
DTSTART;TZID=Europe/London:20260206T183000
DTEND;TZID=Europe/London:20260206T213000
DTSTAMP:20260424T114304
CREATED:20260127T071059Z
LAST-MODIFIED:20260206T071026Z
UID:128098-1770402600-1770413400@keepcolchestercool.co.uk
SUMMARY:East Anglian Folklore Centre Fundraiser - Armoured Man\, Oli Steadman and the Eerie Essex Podcast
DESCRIPTION:Admission for full event including live podcast recording £19Doors open 6.30pm.Podcast recording begins at 7pm. \nEverything else from 8pm!Admission from 8pm £15. \nThis gig is for a seated audience. \nJoin us for a very special evening as we weave storytelling\, ritual and song with many wonderful friends of the Folklore Centre. This is a fundraising event designed to help support the ongoing operation of the East Anglian Folklore Centre\, and have a tonne of folkloric fun whilst doing so! Our fine Programme of Entertainments Includes: \nA live-recorded mega podcast with Eerie Essex\, Norfolk Folklore Society and other special guests. \nA garland of musical treats from local landscape inspired legends Armoured Man & Oli Steadman (Stornaway) who will be performing a fine selction of songs from his 365 days of folk project. \nFolklore Zine-Making/Crafting station. \nMuch More TBA \nhide
URL:https://keepcolchestercool.co.uk/event/east-anglian-folklore-centre-fundraiser-armoured-man-oli-steadman-and-the-eerie-essex-podcast/
LOCATION:Church St\, CO1 1NF Colchester\, United Kingdom
ORGANIZER;CN="Colchester Arts Centre":MAILTO:noreply@facebookmail_com
END:VEVENT
END:VCALENDAR