BEGIN:VCALENDAR
VERSION:2.0
PRODID:-//Keep Colchester Cool - ECPv6.15.20//NONSGML v1.0//EN
CALSCALE:GREGORIAN
METHOD:PUBLISH
X-WR-CALNAME:Keep Colchester Cool
X-ORIGINAL-URL:https://keepcolchestercool.co.uk
X-WR-CALDESC:Events for Keep Colchester Cool
REFRESH-INTERVAL;VALUE=DURATION:PT1H
X-Robots-Tag:noindex
X-PUBLISHED-TTL:PT1H
BEGIN:VTIMEZONE
TZID:Europe/London
BEGIN:DAYLIGHT
TZOFFSETFROM:+0000
TZOFFSETTO:+0100
TZNAME:BST
DTSTART:20240331T010000
END:DAYLIGHT
BEGIN:STANDARD
TZOFFSETFROM:+0100
TZOFFSETTO:+0000
TZNAME:GMT
DTSTART:20241027T010000
END:STANDARD
BEGIN:DAYLIGHT
TZOFFSETFROM:+0000
TZOFFSETTO:+0100
TZNAME:BST
DTSTART:20250330T010000
END:DAYLIGHT
BEGIN:STANDARD
TZOFFSETFROM:+0100
TZOFFSETTO:+0000
TZNAME:GMT
DTSTART:20251026T010000
END:STANDARD
BEGIN:DAYLIGHT
TZOFFSETFROM:+0000
TZOFFSETTO:+0100
TZNAME:BST
DTSTART:20260329T010000
END:DAYLIGHT
BEGIN:STANDARD
TZOFFSETFROM:+0100
TZOFFSETTO:+0000
TZNAME:GMT
DTSTART:20261025T010000
END:STANDARD
END:VTIMEZONE
BEGIN:VEVENT
DTSTART;TZID=Europe/London:20251121T193000
DTEND;TZID=Europe/London:20251121T223000
DTSTAMP:20260424T152223
CREATED:20251008T071047Z
LAST-MODIFIED:20251121T071018Z
UID:126401-1763753400-1763764200@keepcolchestercool.co.uk
SUMMARY:East Anglian Wine and Cheese Pairing (Colchester)
DESCRIPTION:Join us for a deliciously local journey through East Anglia’s finest flavours. This tasting experience brings together six carefully selected wines from across the region\, each paired with an artisanal East Anglian cheese chosen to complement and enhance its character. \nFrom elegant sparkling wine\, to beautiful smooth reds\, you’ll discover the diversity and quality of our local vineyards. Alongside\, you’ll enjoy a handpicked selection of regional cheeses – from creamy soft varieties to a mellow\, buttery blue – each thoughtfully matched to highlight the best of both glass and plate.  \nWhether you’re a wine and cheese enthusiast or simply curious to taste something new\, this will be a relaxed\, indulgent evening celebrating the very best of East Anglia’s produce. \nTickets £55pp.  \nTicket includes: 6 wines\, 6 cheeses\, crackers\, and a tasting notes booklet.
URL:https://keepcolchestercool.co.uk/event/east-anglian-wine-and-cheese-pairing-colchester/
LOCATION:No 10 Museum St\, No 10 Museum St
ORGANIZER;CN="The English Wine Tasting Company":MAILTO:noreply@facebookmail.com
END:VEVENT
END:VCALENDAR