BEGIN:VCALENDAR
VERSION:2.0
PRODID:-//Keep Colchester Cool - ECPv6.15.20//NONSGML v1.0//EN
CALSCALE:GREGORIAN
METHOD:PUBLISH
X-WR-CALNAME:Keep Colchester Cool
X-ORIGINAL-URL:https://keepcolchestercool.co.uk
X-WR-CALDESC:Events for Keep Colchester Cool
REFRESH-INTERVAL;VALUE=DURATION:PT1H
X-Robots-Tag:noindex
X-PUBLISHED-TTL:PT1H
BEGIN:VTIMEZONE
TZID:Europe/London
BEGIN:DAYLIGHT
TZOFFSETFROM:+0000
TZOFFSETTO:+0100
TZNAME:BST
DTSTART:20240331T010000
END:DAYLIGHT
BEGIN:STANDARD
TZOFFSETFROM:+0100
TZOFFSETTO:+0000
TZNAME:GMT
DTSTART:20241027T010000
END:STANDARD
BEGIN:DAYLIGHT
TZOFFSETFROM:+0000
TZOFFSETTO:+0100
TZNAME:BST
DTSTART:20250330T010000
END:DAYLIGHT
BEGIN:STANDARD
TZOFFSETFROM:+0100
TZOFFSETTO:+0000
TZNAME:GMT
DTSTART:20251026T010000
END:STANDARD
BEGIN:DAYLIGHT
TZOFFSETFROM:+0000
TZOFFSETTO:+0100
TZNAME:BST
DTSTART:20260329T010000
END:DAYLIGHT
BEGIN:STANDARD
TZOFFSETFROM:+0100
TZOFFSETTO:+0000
TZNAME:GMT
DTSTART:20261025T010000
END:STANDARD
END:VTIMEZONE
BEGIN:VEVENT
DTSTART;TZID=Europe/London:20251018T100000
DTEND;TZID=Europe/London:20251018T130000
DTSTAMP:20260423T173520
CREATED:20251007T071151Z
LAST-MODIFIED:20251018T071002Z
UID:126155-1760781600-1760792400@keepcolchestercool.co.uk
SUMMARY:East of England Disabled Creatives Meet-Up - Oct
DESCRIPTION:The East of England Disabled Creatives Meet-Up is a free space for deaf\, disabled and/or neurodivergent creatives to meet\, share and create! \nAs artists\, don’t ask for permission. Take up space. For yourself and your work. We aim to provide that space for you! \nThis is a monthly in-person meet-up at the Mercury Theatre in collaboration with Graeae Theatre Company. \nWe welcome artists at any experience-level\, the aim is to establish a relaxed space for people to turn up for however long they wish within the meet-up session time. The meet-up is from 10am-1pm\, but you are welcome to drop-in anytime. \nWe will be meeting in the upstairs bar at the Mercury Theatre\, if you do not know where this is\, please ask a member of our Box Office or Front of House staff and they will guide you. \nIt will be an opportunity to network\, meet new artists in your area and develop your practice. \nThe Mercury’s Graeae Associate\, Christian Markham\, will always be in attendance to facilitate and/or answer any questions you might have about the Mercury\, Graeae\, or wider disabled arts initiatives.
URL:https://keepcolchestercool.co.uk/event/east-of-england-disabled-creatives-meet-up-oct/
LOCATION:Mercury Theatre Colchester\, Mercury Theatre Colchester
ORGANIZER;CN="Mercury Theatre Colchester":MAILTO:noreply@facebookmail_com
END:VEVENT
END:VCALENDAR