BEGIN:VCALENDAR
VERSION:2.0
PRODID:-//Keep Colchester Cool - ECPv6.15.20//NONSGML v1.0//EN
CALSCALE:GREGORIAN
METHOD:PUBLISH
X-WR-CALNAME:Keep Colchester Cool
X-ORIGINAL-URL:https://keepcolchestercool.co.uk
X-WR-CALDESC:Events for Keep Colchester Cool
REFRESH-INTERVAL;VALUE=DURATION:PT1H
X-Robots-Tag:noindex
X-PUBLISHED-TTL:PT1H
BEGIN:VTIMEZONE
TZID:Europe/London
BEGIN:DAYLIGHT
TZOFFSETFROM:+0000
TZOFFSETTO:+0100
TZNAME:BST
DTSTART:20250330T010000
END:DAYLIGHT
BEGIN:STANDARD
TZOFFSETFROM:+0100
TZOFFSETTO:+0000
TZNAME:GMT
DTSTART:20251026T010000
END:STANDARD
BEGIN:DAYLIGHT
TZOFFSETFROM:+0000
TZOFFSETTO:+0100
TZNAME:BST
DTSTART:20260329T010000
END:DAYLIGHT
BEGIN:STANDARD
TZOFFSETFROM:+0100
TZOFFSETTO:+0000
TZNAME:GMT
DTSTART:20261025T010000
END:STANDARD
BEGIN:DAYLIGHT
TZOFFSETFROM:+0000
TZOFFSETTO:+0100
TZNAME:BST
DTSTART:20270328T010000
END:DAYLIGHT
BEGIN:STANDARD
TZOFFSETFROM:+0100
TZOFFSETTO:+0000
TZNAME:GMT
DTSTART:20271031T010000
END:STANDARD
END:VTIMEZONE
BEGIN:VEVENT
DTSTART;TZID=Europe/London:20260404T110000
DTEND;TZID=Europe/London:20260404T140000
DTSTAMP:20260424T011651
CREATED:20260210T071047Z
LAST-MODIFIED:20260226T071222Z
UID:128286-1775300400-1775311200@keepcolchestercool.co.uk
SUMMARY:EGGSTRAVAGANZA- Rollerworld @ Charter Hall
DESCRIPTION:EGGSTRAVAGANZA – Everything You Need to Know! ��� \nEGGSTRAVAGANZA is coming to Charter Hall\, Colchester and here’s your quick guide before you roll in! \n⸻ \n� Session Times – SATURDAY 4th April 2026� 11–12: Relaxed Session (sensory-friendly)� 12–5: Family Skate (all ages\, under-14s with an adult)� 7–11:30: Over-14s Roller Disco \n⸻ \n� Skate Hire Info� Pre-book hire – it sells out fast!� Junior size 11 & under: adjustable skates → trainers required� Bring your own skates if you have them (checked on entry) \n⸻ \n� SpectatorsYes! Spectator tickets are required for anyone not skating. \n⸻ \n� Food & Drink• Hot dogs + snacks available from Rollerworld• Rollerworld accepts cash & card• Charter Hall bar is card-only \n⸻ \n� Parking� Leisure World car park – pay via MiPermit (737941)� Arrive early for the best spaces! \n⸻ \n� Tickets� Advance booking = best prices� Door tickets only available if not sold out \n⸻ \n� RefundsPlease check the event T&Cs for refund + cut-off details. \n⸻ \n� Stay UpdatedFollow us on Facebook & Instagram and check the Rollerworld website for the latest news! \n⸻ \n#EGGSTRAVAGANZA #Rollerworld #CharterHallColchester #ColchesterEvents #RollerDisco
URL:https://keepcolchestercool.co.uk/event/eggstravaganza-rollerworld-charter-hall/
LOCATION:Colchester Charter Hall\, Colchester Charter Hall
ATTACH;FMTTYPE=image/jpeg:https://keepcolchestercool.co.uk/wp-content/uploads/128286_image_627013284_907848415230316_1349975930933037524_n.jpg
END:VEVENT
END:VCALENDAR