BEGIN:VCALENDAR
VERSION:2.0
PRODID:-//Keep Colchester Cool - ECPv6.15.20//NONSGML v1.0//EN
CALSCALE:GREGORIAN
METHOD:PUBLISH
X-WR-CALNAME:Keep Colchester Cool
X-ORIGINAL-URL:https://keepcolchestercool.co.uk
X-WR-CALDESC:Events for Keep Colchester Cool
REFRESH-INTERVAL;VALUE=DURATION:PT1H
X-Robots-Tag:noindex
X-PUBLISHED-TTL:PT1H
BEGIN:VTIMEZONE
TZID:Europe/London
BEGIN:DAYLIGHT
TZOFFSETFROM:+0000
TZOFFSETTO:+0100
TZNAME:BST
DTSTART:20250330T010000
END:DAYLIGHT
BEGIN:STANDARD
TZOFFSETFROM:+0100
TZOFFSETTO:+0000
TZNAME:GMT
DTSTART:20251026T010000
END:STANDARD
BEGIN:DAYLIGHT
TZOFFSETFROM:+0000
TZOFFSETTO:+0100
TZNAME:BST
DTSTART:20260329T010000
END:DAYLIGHT
BEGIN:STANDARD
TZOFFSETFROM:+0100
TZOFFSETTO:+0000
TZNAME:GMT
DTSTART:20261025T010000
END:STANDARD
BEGIN:DAYLIGHT
TZOFFSETFROM:+0000
TZOFFSETTO:+0100
TZNAME:BST
DTSTART:20270328T010000
END:DAYLIGHT
BEGIN:STANDARD
TZOFFSETFROM:+0100
TZOFFSETTO:+0000
TZNAME:GMT
DTSTART:20271031T010000
END:STANDARD
END:VTIMEZONE
BEGIN:VEVENT
DTSTART;TZID=Europe/London:20260321T190000
DTEND;TZID=Europe/London:20260321T220000
DTSTAMP:20260424T041909
CREATED:20250513T071017Z
LAST-MODIFIED:20260226T071216Z
UID:124244-1774119600-1774130400@keepcolchestercool.co.uk
SUMMARY:Emilia Quinn Live at Three Wise Monkeys - Colchester plus guests The Jackson Line
DESCRIPTION:Emilia Quinn brings her full band to Essex heading to Three Wise Monkeys with guests The Jackson Line \nEmilia Quinn is a dynamic UK-based musician and singer-songwriter known for her raw\, soulful voice and genre-bending sound that fuses Americana\, Country\, Blues\, Rock and more. With a background in classical training and a passion for storytelling\, Emilia creates emotionally charged music that resonates deeply with her listeners. Her powerful vocals and honest lyricism explore themes of resilience self-discovery\, heartache and love earning her recognition in both the British and international music scenes. \nEmilia’s career began in grassroots venues\, but her unique blend of styles quickly caught attention\, leading her to perform at major festivals like Country2Country\, The Long Road\, Black Deer and share the stage with prominent artists. Her Award nominated debut album ‘Wanderlust & Breaking Rules” (2023) was described as ‘a real mix of southern gospel\, 70s Rolling Stones style riffola and heartfelt Blues/Folk/Country emotions’ – EF Country. It was followed by a highly anticipated second studio album in 2025 titled ‘Dented Halos’. Released on 19th September 2025 te album gained Number 1 in the iTunes Blues Chart and 27 in the all genres chart. Spell-binding and beautifully raw\, Rock The Joint Magazine describes it as “an album that breathes\, breaks\, heals\, and rises again.”  \nKnown for her captivating live performances\, Emilia’s on-stage energy and authenticity have solidified her reputation as a rising star in Americana\, Blues and Folk Rock genres.  \nWith Support From The Jackson Line \nWith two lead vocalists in the shape of Keith Porter and Jamie Cook\, harmonies were always going to be front and centre in The Jackson Line\, who deliver a modern take on classic Country and Americana. Storytelling\, harmonies and guitars are at the heart of what they do. \nThe band are comfortable with the tag of ‘modern country’\, but with each member bringing a wide range of differing influences to the table they create thoughtful\, melodic songs\, which capture the essence of country while allowing their other influences to permeate.
URL:https://keepcolchestercool.co.uk/event/emilia-quinn/
LOCATION:60 High Street\, CO1 1DN Colchester\, United Kingdom\, 60 High Street\, CO1 1DN Colchester\, United Kingdom
ATTACH;FMTTYPE=image/jpeg:https://keepcolchestercool.co.uk/wp-content/uploads/124244_image_634055180_1509951064465684_864314506865764334_n.jpg
ORGANIZER;CN="Three Wise Monkeys Colchester":MAILTO:noreply@facebookmail_com
END:VEVENT
END:VCALENDAR