BEGIN:VCALENDAR
VERSION:2.0
PRODID:-//Keep Colchester Cool - ECPv6.15.20//NONSGML v1.0//EN
CALSCALE:GREGORIAN
METHOD:PUBLISH
X-WR-CALNAME:Keep Colchester Cool
X-ORIGINAL-URL:https://keepcolchestercool.co.uk
X-WR-CALDESC:Events for Keep Colchester Cool
REFRESH-INTERVAL;VALUE=DURATION:PT1H
X-Robots-Tag:noindex
X-PUBLISHED-TTL:PT1H
BEGIN:VTIMEZONE
TZID:Europe/London
BEGIN:DAYLIGHT
TZOFFSETFROM:+0000
TZOFFSETTO:+0100
TZNAME:BST
DTSTART:20250330T010000
END:DAYLIGHT
BEGIN:STANDARD
TZOFFSETFROM:+0100
TZOFFSETTO:+0000
TZNAME:GMT
DTSTART:20251026T010000
END:STANDARD
BEGIN:DAYLIGHT
TZOFFSETFROM:+0000
TZOFFSETTO:+0100
TZNAME:BST
DTSTART:20260329T010000
END:DAYLIGHT
BEGIN:STANDARD
TZOFFSETFROM:+0100
TZOFFSETTO:+0000
TZNAME:GMT
DTSTART:20261025T010000
END:STANDARD
BEGIN:DAYLIGHT
TZOFFSETFROM:+0000
TZOFFSETTO:+0100
TZNAME:BST
DTSTART:20270328T010000
END:DAYLIGHT
BEGIN:STANDARD
TZOFFSETFROM:+0100
TZOFFSETTO:+0000
TZNAME:GMT
DTSTART:20271031T010000
END:STANDARD
END:VTIMEZONE
BEGIN:VEVENT
DTSTART;TZID=Europe/London:20260314T150000
DTEND;TZID=Europe/London:20260314T180000
DTSTAMP:20260424T043915
CREATED:20260105T071026Z
LAST-MODIFIED:20260226T071214Z
UID:127647-1773500400-1773511200@keepcolchestercool.co.uk
SUMMARY:Existentialist & Three Wise Monkeys Present
DESCRIPTION:Existentialist & Three Wise Monkeys are excited to present a day of heavy music from across the UK: \nExistentialistMoon ReaperVeiledPerpetual ParadoxEyes of a NihilistKnocked For SixLich \nand music DJ Darren Smith of the Massacre Metal Night. \nhttps://ticketscandy.com/e/massacre-metal-night-existentialist-three-wise-monkeys-present-heavy-metal-fest-13191
URL:https://keepcolchestercool.co.uk/event/existentialist-three-wise-monkeys-present/
LOCATION:Three Wise Monkeys Colchester
ATTACH;FMTTYPE=image/jpeg:https://keepcolchestercool.co.uk/wp-content/uploads/127647_image_582965651_122199832412358741_7711167475172335051_n.jpg
ORGANIZER;CN="Existentialist UK":MAILTO:noreply@facebookmail.com
END:VEVENT
END:VCALENDAR