BEGIN:VCALENDAR
VERSION:2.0
PRODID:-//Keep Colchester Cool - ECPv6.15.20//NONSGML v1.0//EN
CALSCALE:GREGORIAN
METHOD:PUBLISH
X-WR-CALNAME:Keep Colchester Cool
X-ORIGINAL-URL:https://keepcolchestercool.co.uk
X-WR-CALDESC:Events for Keep Colchester Cool
REFRESH-INTERVAL;VALUE=DURATION:PT1H
X-Robots-Tag:noindex
X-PUBLISHED-TTL:PT1H
BEGIN:VTIMEZONE
TZID:Europe/London
BEGIN:DAYLIGHT
TZOFFSETFROM:+0000
TZOFFSETTO:+0100
TZNAME:BST
DTSTART:20240331T010000
END:DAYLIGHT
BEGIN:STANDARD
TZOFFSETFROM:+0100
TZOFFSETTO:+0000
TZNAME:GMT
DTSTART:20241027T010000
END:STANDARD
BEGIN:DAYLIGHT
TZOFFSETFROM:+0000
TZOFFSETTO:+0100
TZNAME:BST
DTSTART:20250330T010000
END:DAYLIGHT
BEGIN:STANDARD
TZOFFSETFROM:+0100
TZOFFSETTO:+0000
TZNAME:GMT
DTSTART:20251026T010000
END:STANDARD
BEGIN:DAYLIGHT
TZOFFSETFROM:+0000
TZOFFSETTO:+0100
TZNAME:BST
DTSTART:20260329T010000
END:DAYLIGHT
BEGIN:STANDARD
TZOFFSETFROM:+0100
TZOFFSETTO:+0000
TZNAME:GMT
DTSTART:20261025T010000
END:STANDARD
END:VTIMEZONE
BEGIN:VEVENT
DTSTART;TZID=Europe/London:20251115T200000
DTEND;TZID=Europe/London:20251115T230000
DTSTAMP:20260424T155922
CREATED:20250827T071026Z
LAST-MODIFIED:20251115T070958Z
UID:125966-1763236800-1763247600@keepcolchestercool.co.uk
SUMMARY:Fatal Fractures Plus Guests
DESCRIPTION:Fatal Fractures is a hardcore punk band from Norway that kicked off in the heart of the pandemic in 2020. They play high-energy punk\, blended with hardcore and heavy metal riffs. Heavily inspired by bands like Gallows\, Turnstile\, and Cancer Bats\, you can expect an intense and loud live show. This November\, they’re bringing that raw energy to the UK for the very first time. Get ready for a wild ride! Colchester\, see you at The Brewhouse on Saturday\, November 15th! SEE YOU IN THE PIT!!! \nCheck them out here!  \nSpotify: https://open.spotify.com/artist/1CcLIHufSNLXkaOqNMUuR4?si=AsBT5UkLT7eR5dif1B3glw \nInstagram:https://www.instagram.com/fatalfractures/ \nFacebook: https://www.facebook.com/fatalfractures/ \nYoutube: https://www.youtube.com/watch?v=HaCS3XPsRzw
URL:https://keepcolchestercool.co.uk/event/fatal-fractures-plus-guests-tbc/
LOCATION:Queen St Brewhouse\, 7 - 9 Queen Street\, Colchester\, CO1 2PG\, GB
ORGANIZER;CN="Queen St Brewhouse":MAILTO:noreply@facebookmail_com
END:VEVENT
END:VCALENDAR